BEGIN:VCALENDAR
VERSION:2.0
PRODID:-//Eastern Monroe Public Library - ECPv6.15.20//NONSGML v1.0//EN
CALSCALE:GREGORIAN
METHOD:PUBLISH
X-WR-CALNAME:Eastern Monroe Public Library
X-ORIGINAL-URL:https://monroepl.org
X-WR-CALDESC:Events for Eastern Monroe Public Library
REFRESH-INTERVAL;VALUE=DURATION:PT1H
X-Robots-Tag:noindex
X-PUBLISHED-TTL:PT1H
BEGIN:VTIMEZONE
TZID:America/New_York
BEGIN:DAYLIGHT
TZOFFSETFROM:-0500
TZOFFSETTO:-0400
TZNAME:EDT
DTSTART:20250309T070000
END:DAYLIGHT
BEGIN:STANDARD
TZOFFSETFROM:-0400
TZOFFSETTO:-0500
TZNAME:EST
DTSTART:20251102T060000
END:STANDARD
BEGIN:DAYLIGHT
TZOFFSETFROM:-0500
TZOFFSETTO:-0400
TZNAME:EDT
DTSTART:20260308T070000
END:DAYLIGHT
BEGIN:STANDARD
TZOFFSETFROM:-0400
TZOFFSETTO:-0500
TZNAME:EST
DTSTART:20261101T060000
END:STANDARD
BEGIN:DAYLIGHT
TZOFFSETFROM:-0500
TZOFFSETTO:-0400
TZNAME:EDT
DTSTART:20270314T070000
END:DAYLIGHT
BEGIN:STANDARD
TZOFFSETFROM:-0400
TZOFFSETTO:-0500
TZNAME:EST
DTSTART:20271107T060000
END:STANDARD
END:VTIMEZONE
BEGIN:VEVENT
DTSTART;TZID=America/New_York:20260415T173000
DTEND;TZID=America/New_York:20260415T190000
DTSTAMP:20260423T115358
CREATED:20260323T232157Z
LAST-MODIFIED:20260323T232157Z
UID:27452-1776274200-1776279600@monroepl.org
SUMMARY:Cut\, Paste\, & Connect: A Junk Journaling Social Craft Hour
DESCRIPTION:Drop in for a relaxed junk journaling and collage social. Create a junk journal–style bookmark or bring your own journal to add pages and decorations while chatting with fellow crafters. This is a self-guided gathering\, not a class. Supplies will be available to share\, including glue sticks\, torn book pages\, washi tape\, colored pencils\, markers\, magazine cutouts\, scrapbook paper pieces\, and other collage odds and ends. Journals are not provided\, so feel free to bring your own if you’d like to work in it. Beginners welcome. For adults\, but ages 14+ welcome. Registration required to account for supplies and space – call 570-421-0800 ext. 317. Registration opens Monday\, March 23rd. 
URL:https://monroepl.org/event/cut-paste-connect-a-junk-journaling-social-craft-hour/
LOCATION:Hughes Library\, 1002 North 9th Street\, Stroudsburg\, PA\, 18360\, United States
CATEGORIES:Craft
END:VEVENT
END:VCALENDAR