BEGIN:VCALENDAR
VERSION:2.0
PRODID:-//Eastern Monroe Public Library - ECPv6.15.20//NONSGML v1.0//EN
CALSCALE:GREGORIAN
METHOD:PUBLISH
X-ORIGINAL-URL:https://monroepl.org
X-WR-CALDESC:Events for Eastern Monroe Public Library
REFRESH-INTERVAL;VALUE=DURATION:PT1H
X-Robots-Tag:noindex
X-PUBLISHED-TTL:PT1H
BEGIN:VTIMEZONE
TZID:America/New_York
BEGIN:DAYLIGHT
TZOFFSETFROM:-0500
TZOFFSETTO:-0400
TZNAME:EDT
DTSTART:20250309T070000
END:DAYLIGHT
BEGIN:STANDARD
TZOFFSETFROM:-0400
TZOFFSETTO:-0500
TZNAME:EST
DTSTART:20251102T060000
END:STANDARD
BEGIN:DAYLIGHT
TZOFFSETFROM:-0500
TZOFFSETTO:-0400
TZNAME:EDT
DTSTART:20260308T070000
END:DAYLIGHT
BEGIN:STANDARD
TZOFFSETFROM:-0400
TZOFFSETTO:-0500
TZNAME:EST
DTSTART:20261101T060000
END:STANDARD
BEGIN:DAYLIGHT
TZOFFSETFROM:-0500
TZOFFSETTO:-0400
TZNAME:EDT
DTSTART:20270314T070000
END:DAYLIGHT
BEGIN:STANDARD
TZOFFSETFROM:-0400
TZOFFSETTO:-0500
TZNAME:EST
DTSTART:20271107T060000
END:STANDARD
END:VTIMEZONE
BEGIN:VEVENT
DTSTART;TZID=America/New_York:20260505T183000
DTEND;TZID=America/New_York:20260505T200000
DTSTAMP:20260423T104934
CREATED:20251115T154854Z
LAST-MODIFIED:20251115T154854Z
UID:25910-1778005800-1778011200@monroepl.org
SUMMARY:Hughes United Book Club (HUB)
DESCRIPTION:Our flagship branch’s book club meets on the first Tuesday of every month. We offer hybrid meetings\, so for your convenience you can attend in person on our 2nd floor or on your device via Zoom. This month’s selection of the Hughes United Book Club (HUB) is Jean Hanff Korelitz’s The Plot. \nAn invitation to join the Zoom portion of our hybrid meeting will be emailed to you beforehand. If you are not currently a member of the club but would like to join us\, call 570-421-0800 x.311 and ask for Jason\, or send an email to jvigorito@monroepl.org. New members are always warmly welcomed. Check out our past & future schedule!
URL:https://monroepl.org/event/hughes-united-book-club-hub-5/
LOCATION:Hughes Library\, 1002 North 9th Street\, Stroudsburg\, PA\, 18360\, United States
CATEGORIES:Book Club
END:VEVENT
BEGIN:VEVENT
DTSTART;TZID=America/New_York:20260602T183000
DTEND;TZID=America/New_York:20260602T200000
DTSTAMP:20260423T104934
CREATED:20251115T155207Z
LAST-MODIFIED:20251115T155207Z
UID:25913-1780425000-1780430400@monroepl.org
SUMMARY:Hughes United Book Club (HUB)
DESCRIPTION:Our flagship branch’s book club meets on the first Tuesday of every month. We offer hybrid meetings\, so for your convenience you can attend in person on our 2nd floor or on your device via Zoom. This month’s selection of the Hughes United Book Club (HUB) is Gabriel García Márquez’s Chronicle of a Death Foretold. \nAn invitation to join the Zoom portion of our hybrid meeting will be emailed to you beforehand. If you are not currently a member of the club but would like to join us\, call 570-421-0800 x.311 and ask for Jason\, or send an email to jvigorito@monroepl.org. New members are always warmly welcomed. Check out our past & future schedule!
URL:https://monroepl.org/event/hughes-united-book-club-hub-6/
LOCATION:Hughes Library\, 1002 North 9th Street\, Stroudsburg\, PA\, 18360\, United States
CATEGORIES:Book Club
END:VEVENT
BEGIN:VEVENT
DTSTART;TZID=America/New_York:20260707T183000
DTEND;TZID=America/New_York:20260707T200000
DTSTAMP:20260423T104934
CREATED:20251115T160656Z
LAST-MODIFIED:20251115T160656Z
UID:25916-1783449000-1783454400@monroepl.org
SUMMARY:Hughes United Book Club (HUB)
DESCRIPTION:Our flagship branch’s book club meets on the first Tuesday of every month. We offer hybrid meetings\, so for your convenience you can attend in person on our 2nd floor or on your device via Zoom. This month’s selection of the Hughes United Book Club (HUB) is Anna Quindlen’s Miller’s Valley. \nAn invitation to join the Zoom portion of our hybrid meeting will be emailed to you beforehand. If you are not currently a member of the club but would like to join us\, call 570-421-0800 x.311 and ask for Jason\, or send an email to jvigorito@monroepl.org. New members are always warmly welcomed. Check out our past & future schedule!
URL:https://monroepl.org/event/hughes-united-book-club-hub-7/
LOCATION:Hughes Library\, 1002 North 9th Street\, Stroudsburg\, PA\, 18360\, United States
CATEGORIES:Book Club
END:VEVENT
BEGIN:VEVENT
DTSTART;TZID=America/New_York:20260804T183000
DTEND;TZID=America/New_York:20260804T200000
DTSTAMP:20260423T104934
CREATED:20251115T160918Z
LAST-MODIFIED:20251115T160918Z
UID:25919-1785868200-1785873600@monroepl.org
SUMMARY:Hughes United Book Club (HUB)
DESCRIPTION:Our flagship branch’s book club meets on the first Tuesday of every month. We offer hybrid meetings\, so for your convenience you can attend in person on our 2nd floor or on your device via Zoom. This month’s selection of the Hughes United Book Club (HUB) is Michael Finkel’s The Art Thief. \nAn invitation to join the Zoom portion of our hybrid meeting will be emailed to you beforehand. If you are not currently a member of the club but would like to join us\, call 570-421-0800 x.311 and ask for Jason\, or send an email to jvigorito@monroepl.org. New members are always warmly welcomed. Check out our past & future schedule!
URL:https://monroepl.org/event/hughes-united-book-club-hub-8/
LOCATION:Hughes Library\, 1002 North 9th Street\, Stroudsburg\, PA\, 18360\, United States
CATEGORIES:Book Club
END:VEVENT
BEGIN:VEVENT
DTSTART;TZID=America/New_York:20260901T183000
DTEND;TZID=America/New_York:20260901T200000
DTSTAMP:20260423T104934
CREATED:20251115T161146Z
LAST-MODIFIED:20251115T161146Z
UID:25922-1788287400-1788292800@monroepl.org
SUMMARY:Hughes United Book Club (HUB)
DESCRIPTION:Our flagship branch’s book club meets on the first Tuesday of every month. We offer hybrid meetings\, so for your convenience you can attend in person on our 2nd floor or on your device via Zoom. This month’s selection of the Hughes United Book Club (HUB) is Charlotte McConaghy’s Wild Dark Shore. \nAn invitation to join the Zoom portion of our hybrid meeting will be emailed to you beforehand. If you are not currently a member of the club but would like to join us\, call 570-421-0800 x.311 and ask for Jason\, or send an email to jvigorito@monroepl.org. New members are always warmly welcomed. Check out our past & future schedule!
URL:https://monroepl.org/event/hughes-united-book-club-hub-9/
LOCATION:Hughes Library\, 1002 North 9th Street\, Stroudsburg\, PA\, 18360\, United States
CATEGORIES:Book Club
END:VEVENT
BEGIN:VEVENT
DTSTART;TZID=America/New_York:20261006T183000
DTEND;TZID=America/New_York:20261006T200000
DTSTAMP:20260423T104934
CREATED:20251115T161433Z
LAST-MODIFIED:20251115T161433Z
UID:25925-1791311400-1791316800@monroepl.org
SUMMARY:Hughes United Book Club (HUB)
DESCRIPTION:Our flagship branch’s book club meets on the first Tuesday of every month. We offer hybrid meetings\, so for your convenience you can attend in person on our 2nd floor or on your device via Zoom. This month’s selection of the Hughes United Book Club (HUB) is Emily St. John Mandel’s Station Eleven. \nAn invitation to join the Zoom portion of our hybrid meeting will be emailed to you beforehand. If you are not currently a member of the club but would like to join us\, call 570-421-0800 x.311 and ask for Jason\, or send an email to jvigorito@monroepl.org. New members are always warmly welcomed. Check out our past & future schedule!
URL:https://monroepl.org/event/hughes-united-book-club-hub-10/
LOCATION:Hughes Library\, 1002 North 9th Street\, Stroudsburg\, PA\, 18360\, United States
CATEGORIES:Book Club
END:VEVENT
BEGIN:VEVENT
DTSTART;TZID=America/New_York:20261103T183000
DTEND;TZID=America/New_York:20261103T200000
DTSTAMP:20260423T104934
CREATED:20251115T161710Z
LAST-MODIFIED:20251115T161710Z
UID:25928-1793730600-1793736000@monroepl.org
SUMMARY:Hughes United Book Club (HUB)
DESCRIPTION:Our flagship branch’s book club meets on the first Tuesday of every month. We offer hybrid meetings\, so for your convenience you can attend in person on our 2nd floor or on your device via Zoom. This month’s selection of the Hughes United Book Club (HUB) is Sara Gruen’s Water for Elephants. \nAn invitation to join the Zoom portion of our hybrid meeting will be emailed to you beforehand. If you are not currently a member of the club but would like to join us\, call 570-421-0800 x.311 and ask for Jason\, or send an email to jvigorito@monroepl.org. New members are always warmly welcomed. Check out our past & future schedule!
URL:https://monroepl.org/event/hughes-united-book-club-hub-11/
LOCATION:Hughes Library\, 1002 North 9th Street\, Stroudsburg\, PA\, 18360\, United States
CATEGORIES:Book Club
END:VEVENT
BEGIN:VEVENT
DTSTART;TZID=America/New_York:20261201T183000
DTEND;TZID=America/New_York:20261201T200000
DTSTAMP:20260423T104934
CREATED:20251115T162017Z
LAST-MODIFIED:20251115T162017Z
UID:25931-1796149800-1796155200@monroepl.org
SUMMARY:Hughes United Book Club (HUB)
DESCRIPTION:Our flagship branch’s book club meets on the first Tuesday of every month. We offer hybrid meetings\, so for your convenience you can attend in person on our 2nd floor or on your device via Zoom. This month’s selection of the Hughes United Book Club (HUB) is Anne Tyler’s The Accidental Tourist. \nAn invitation to join the Zoom portion of our hybrid meeting will be emailed to you beforehand. If you are not currently a member of the club but would like to join us\, call 570-421-0800 x.311 and ask for Jason\, or send an email to jvigorito@monroepl.org. New members are always warmly welcomed. Check out our past & future schedule!
URL:https://monroepl.org/event/hughes-united-book-club-hub-12/
LOCATION:Hughes Library\, 1002 North 9th Street\, Stroudsburg\, PA\, 18360\, United States
CATEGORIES:Book Club
END:VEVENT
END:VCALENDAR