BEGIN:VCALENDAR
VERSION:2.0
PRODID:-//Eastern Monroe Public Library - ECPv6.15.20//NONSGML v1.0//EN
CALSCALE:GREGORIAN
METHOD:PUBLISH
X-ORIGINAL-URL:https://monroepl.org
X-WR-CALDESC:Events for Eastern Monroe Public Library
REFRESH-INTERVAL;VALUE=DURATION:PT1H
X-Robots-Tag:noindex
X-PUBLISHED-TTL:PT1H
BEGIN:VTIMEZONE
TZID:America/New_York
BEGIN:DAYLIGHT
TZOFFSETFROM:-0500
TZOFFSETTO:-0400
TZNAME:EDT
DTSTART:20250309T070000
END:DAYLIGHT
BEGIN:STANDARD
TZOFFSETFROM:-0400
TZOFFSETTO:-0500
TZNAME:EST
DTSTART:20251102T060000
END:STANDARD
BEGIN:DAYLIGHT
TZOFFSETFROM:-0500
TZOFFSETTO:-0400
TZNAME:EDT
DTSTART:20260308T070000
END:DAYLIGHT
BEGIN:STANDARD
TZOFFSETFROM:-0400
TZOFFSETTO:-0500
TZNAME:EST
DTSTART:20261101T060000
END:STANDARD
BEGIN:DAYLIGHT
TZOFFSETFROM:-0500
TZOFFSETTO:-0400
TZNAME:EDT
DTSTART:20270314T070000
END:DAYLIGHT
BEGIN:STANDARD
TZOFFSETFROM:-0400
TZOFFSETTO:-0500
TZNAME:EST
DTSTART:20271107T060000
END:STANDARD
END:VTIMEZONE
BEGIN:VEVENT
DTSTART;TZID=America/New_York:20260423T140000
DTEND;TZID=America/New_York:20260423T140000
DTSTAMP:20260423T105032
CREATED:20260326T141228Z
LAST-MODIFIED:20260330T164047Z
UID:27570-1776952800-1776952800@monroepl.org
SUMMARY:Computer Confidence Class: A Beginner’s Guide to Computers & the Internet
DESCRIPTION:New to computers—or feeling out of practice? Build confidence with the essential skills you need to navigate today’s digital world. In this hands-on class\, you’ll learn how to use a computer\, browse the internet\, and get familiar with basic computer and internet tasks. Perfect for true beginners or anyone wanting a friendly refresher. Laptops and mice are provided for practice. Registration required – space is limited. To register\, call 570-421-0800 ext. 317 or visit the Hughes Library 2nd-floor Reference Desk.
URL:https://monroepl.org/event/computer-confidence-class-a-beginners-guide-to-computers-the-internet-4/
LOCATION:Hughes Library\, 1002 North 9th Street\, Stroudsburg\, PA\, 18360\, United States
CATEGORIES:Computer Class
END:VEVENT
BEGIN:VEVENT
DTSTART;TZID=America/New_York:20260427T113000
DTEND;TZID=America/New_York:20260427T113000
DTSTAMP:20260423T105032
CREATED:20260326T133204Z
LAST-MODIFIED:20260330T163720Z
UID:27554-1777289400-1777289400@monroepl.org
SUMMARY:Paper Tulips: Low Pressure Adult Craft
DESCRIPTION:Join us for a relaxed craft session where we’ll make a small bouquet of paper tulips using kirigami\, the Japanese art of paper cutting and folding. This tulip design falls somewhere in the middle of the difficulty range—so it’s not the simplest\, but not the most complicated either. Be ready for plenty of folding as you bring your flowers to life! As with all of our Low-Pressure Adult Crafts\, the focus is on fun\, creativity\, and connection rather than perfection—results may vary.  \nIf you’d like something to display or carry your tulips in\, feel free to bring a small container such as a tiny vase\, a glass yogurt jar\, or similar. Tulip stems will be about 3–4 inches\, so choose something small. Containers will not be provided; All supplies for paper tulip making will be provided. For adults only (ages 18+). Registration required. Call 570-421-0800 ext. 317 to register. Registration opens Monday\, April 6th. 
URL:https://monroepl.org/event/paper-tulips-low-pressure-adult-craft/
LOCATION:Hughes Library\, 1002 North 9th Street\, Stroudsburg\, PA\, 18360\, United States
CATEGORIES:Craft
END:VEVENT
BEGIN:VEVENT
DTSTART;TZID=America/New_York:20260427T130000
DTEND;TZID=America/New_York:20260427T130000
DTSTAMP:20260423T105032
CREATED:20260326T143257Z
LAST-MODIFIED:20260330T163542Z
UID:27583-1777294800-1777294800@monroepl.org
SUMMARY:Drop-In Fly-Tying Demo & Practice with Trout Unlimited
DESCRIPTION:Watch fly-tying demonstrations and try your hand at this traditional craft with John from Brodhead Chapter of Trout Unlimited! Drop by the Hughes Library lobby most Mondays\, 1:00-4:00pm  to admire both classic and unique examples of fly tying patterns\, learn techniques\, and practice tying. All flies created will be donated to VALOR to support veterans with fly fishing. No experience or registration required.
URL:https://monroepl.org/event/drop-in-fly-tying-demo-practice-with-trout-unlimited-4/
LOCATION:Hughes Library\, 1002 North 9th Street\, Stroudsburg\, PA\, 18360\, United States
CATEGORIES:Free Workshop
END:VEVENT
BEGIN:VEVENT
DTSTART;TZID=America/New_York:20260427T140000
DTEND;TZID=America/New_York:20260427T140000
DTSTAMP:20260423T105032
CREATED:20260326T144500Z
LAST-MODIFIED:20260326T144500Z
UID:27590-1777298400-1777298400@monroepl.org
SUMMARY:Chair Yoga
DESCRIPTION:Join our Chair Yoga sessions for a yoga-focused class suitable for all levels. Yoga classes include breathing exercises\, movement exercises\, meditation\, and more. All movements are adaptable—Luz provides instructions and modifications for different abilities\, so you can participate entirely on the chair\, partially off\, or fully off the chair if comfortable. Please bring water\, a towel (optional)\, and a yoga mat if you plan to move partially or fully off the chair. Bringing yoga blocks or straps\, if you have them\, is recommended. Space is limited to 50 participants\, first-come\, first-served. Arrive early—doors close promptly at 2:00 PM\, and no late entries are allowed.
URL:https://monroepl.org/event/chair-yoga-3/
LOCATION:Hughes Library\, 1002 North 9th Street\, Stroudsburg\, PA\, 18360\, United States
CATEGORIES:Chair Yoga
END:VEVENT
BEGIN:VEVENT
DTSTART;TZID=America/New_York:20260429T123000
DTEND;TZID=America/New_York:20260429T150000
DTSTAMP:20260423T105032
CREATED:20260326T145527Z
LAST-MODIFIED:20260326T145527Z
UID:27601-1777465800-1777474800@monroepl.org
SUMMARY:Color Yourself Calm: Adult Coloring
DESCRIPTION:Join us for Color Yourself Calm\, a relaxing\, self-guided coloring session for adults of all abilities. All materials are provided—including colored pencils\, crayons\, markers\, and a variety of coloring sheets—though you’re welcome to bring your own if you prefer. Drop in anytime during the session and stay for as long as you like. Settle in for peaceful solitude or connect with others in a calm\, creative atmosphere. Unwind\, recharge\, and enjoy a soothing break in your day!
URL:https://monroepl.org/event/color-yourself-calm-adult-coloring-17/
LOCATION:Hughes Library\, 1002 North 9th Street\, Stroudsburg\, PA\, 18360\, United States
CATEGORIES:Adult Coloring
END:VEVENT
BEGIN:VEVENT
DTSTART;TZID=America/New_York:20260430T140000
DTEND;TZID=America/New_York:20260430T140000
DTSTAMP:20260423T105032
CREATED:20260326T141422Z
LAST-MODIFIED:20260330T161753Z
UID:27573-1777557600-1777557600@monroepl.org
SUMMARY:Microsoft Word Basics Class: Essential Skills for Beginners
DESCRIPTION:Start your journey with Microsoft Word in this beginner-friendly class. Learn how to create\, save\, and format basic documents with step-by-step guidance. We’ll cover typing\, simple formatting\, and essential tools every new Word user should know. No prior experience necessary—perfect for absolute beginners. Laptops and mice provided. Registration required: Call 570-421-0800 ext. 317 or visit the Hughes Library 2nd-floor Reference Desk. \n 
URL:https://monroepl.org/event/microsoft-word-basics-class-essential-skills-for-beginners-2/
LOCATION:Hughes Library\, 1002 North 9th Street\, Stroudsburg\, PA\, 18360\, United States
CATEGORIES:Computer Class
END:VEVENT
END:VCALENDAR