BEGIN:VCALENDAR
VERSION:2.0
PRODID:-//Eastern Monroe Public Library - ECPv6.15.20//NONSGML v1.0//EN
CALSCALE:GREGORIAN
METHOD:PUBLISH
X-WR-CALNAME:Eastern Monroe Public Library
X-ORIGINAL-URL:https://monroepl.org
X-WR-CALDESC:Events for Eastern Monroe Public Library
REFRESH-INTERVAL;VALUE=DURATION:PT1H
X-Robots-Tag:noindex
X-PUBLISHED-TTL:PT1H
BEGIN:VTIMEZONE
TZID:America/New_York
BEGIN:DAYLIGHT
TZOFFSETFROM:-0500
TZOFFSETTO:-0400
TZNAME:EDT
DTSTART:20250309T070000
END:DAYLIGHT
BEGIN:STANDARD
TZOFFSETFROM:-0400
TZOFFSETTO:-0500
TZNAME:EST
DTSTART:20251102T060000
END:STANDARD
BEGIN:DAYLIGHT
TZOFFSETFROM:-0500
TZOFFSETTO:-0400
TZNAME:EDT
DTSTART:20260308T070000
END:DAYLIGHT
BEGIN:STANDARD
TZOFFSETFROM:-0400
TZOFFSETTO:-0500
TZNAME:EST
DTSTART:20261101T060000
END:STANDARD
BEGIN:DAYLIGHT
TZOFFSETFROM:-0500
TZOFFSETTO:-0400
TZNAME:EDT
DTSTART:20270314T070000
END:DAYLIGHT
BEGIN:STANDARD
TZOFFSETFROM:-0400
TZOFFSETTO:-0500
TZNAME:EST
DTSTART:20271107T060000
END:STANDARD
END:VTIMEZONE
BEGIN:VEVENT
DTSTART;TZID=America/New_York:20260203T183000
DTEND;TZID=America/New_York:20260203T200000
DTSTAMP:20260423T134118
CREATED:20251115T153454Z
LAST-MODIFIED:20251115T154530Z
UID:25900-1770143400-1770148800@monroepl.org
SUMMARY:Hughes United Book Club (HUB)
DESCRIPTION:Our flagship branch’s book club meets on the first Tuesday of every month. We offer hybrid meetings\, so for your convenience you can attend in person on our 2nd floor or on your device via Zoom. This month’s selection of the Hughes United Book Club (HUB) is David Benioff’s City of Thieves. \nAn invitation to join the Zoom portion of our hybrid meeting will be emailed to you beforehand. If you are not currently a member of the club but would like to join us\, call 570-421-0800 x.311 and ask for Jason\, or send an email to jvigorito@monroepl.org. New members are always warmly welcomed. Check out our past & future schedule!
URL:https://monroepl.org/event/hughes-united-book-club-hub-2/
LOCATION:Hughes Library\, 1002 North 9th Street\, Stroudsburg\, PA\, 18360\, United States
CATEGORIES:Book Club
END:VEVENT
BEGIN:VEVENT
DTSTART;TZID=America/New_York:20260206T183000
DTEND;TZID=America/New_York:20260206T183000
DTSTAMP:20260423T134118
CREATED:20260108T144451Z
LAST-MODIFIED:20260108T145128Z
UID:26549-1770402600-1770402600@monroepl.org
SUMMARY:Free BookHouse Concert: "Jazz Legends A to Z" with Khalil Kwame Bell
DESCRIPTION:Our free semi-monthly BookHouse Concerts series kicks-off with its first performance of 2026 with “Jazz Legends A To Z” featuring Kahlil Kwame Bell. He is a Grammy-affiliated percussionist\, composer\, author\, and former music educator. Get ready for an evening of music and fun! \nThe concert occurs at our main Hughes Branch building. Admission is free and open to the public\, and refreshments are available for a modest charge. Doors open at 6:30 p.m.\, and the performance will begin promptly at 7:00 p.m. Seating is limited and available on a first-come\, first-serve basis. Please plan to arrive before the scheduled starting time. \n 
URL:https://monroepl.org/event/free-bookhouse-concert-jazz-legends-a-to-z-with-khalil-kwame-bell/
LOCATION:Hughes Library\, 1002 North 9th Street\, Stroudsburg\, PA\, 18360\, United States
CATEGORIES:Free Concert
END:VEVENT
BEGIN:VEVENT
DTSTART;TZID=America/New_York:20260211T130000
DTEND;TZID=America/New_York:20260211T130000
DTSTAMP:20260423T134118
CREATED:20251115T165158Z
LAST-MODIFIED:20260115T141829Z
UID:25937-1770814800-1770814800@monroepl.org
SUMMARY:The BookTalk Book Club
DESCRIPTION:This book club meets at our flagship Hughes branch on the second Wednesday of every month at 1:00 pm. Members attend in-person in our 1st-floor Board Room. This month’s selection of the BookTalk Book Club is Kate Quinn’s The Rose Code.
URL:https://monroepl.org/event/the-booktalk-book-club-2/
LOCATION:Hughes Library\, 1002 North 9th Street\, Stroudsburg\, PA\, 18360\, United States
CATEGORIES:Book Club
END:VEVENT
BEGIN:VEVENT
DTSTART;TZID=America/New_York:20260212T200000
DTEND;TZID=America/New_York:20260212T210000
DTSTAMP:20260423T134118
CREATED:20251115T145011Z
LAST-MODIFIED:20260109T022729Z
UID:25874-1770926400-1770930000@monroepl.org
SUMMARY:Smithfields Omnivorous Readers Book Club (ORB) via Zoom
DESCRIPTION:Our Smithfields Library Branch’s Omnivorous Readers Book Club (ORB) provides a unique and fun book club experience. Rather than everyone reading the same book\, each member chooses your OWN selection related to the month’s theme (which is chosen by the previous meeting’s attending members)! Sharing what we all read is an excellent way to find out about books you may be interested in reading on your own! The book theme for this month is still Celebrity Memoir/Bio. \nAn email invitation with the Zoom link will be sent out before the meeting. If you are not currently a member of the club but would like to join us\, call 570-223-1881 or send an email to smf@monroepl.org and you will be sent some information. New members are always warmly welcomed!
URL:https://monroepl.org/event/smithfields-omnivorous-readers-book-club-via-zoom-2/
LOCATION:Online\, United States
CATEGORIES:Book Club
END:VEVENT
END:VCALENDAR