BEGIN:VCALENDAR
VERSION:2.0
PRODID:-//Eastern Monroe Public Library - ECPv6.15.20//NONSGML v1.0//EN
CALSCALE:GREGORIAN
METHOD:PUBLISH
X-ORIGINAL-URL:https://monroepl.org
X-WR-CALDESC:Events for Eastern Monroe Public Library
REFRESH-INTERVAL;VALUE=DURATION:PT1H
X-Robots-Tag:noindex
X-PUBLISHED-TTL:PT1H
BEGIN:VTIMEZONE
TZID:America/New_York
BEGIN:DAYLIGHT
TZOFFSETFROM:-0500
TZOFFSETTO:-0400
TZNAME:EDT
DTSTART:20250309T070000
END:DAYLIGHT
BEGIN:STANDARD
TZOFFSETFROM:-0400
TZOFFSETTO:-0500
TZNAME:EST
DTSTART:20251102T060000
END:STANDARD
BEGIN:DAYLIGHT
TZOFFSETFROM:-0500
TZOFFSETTO:-0400
TZNAME:EDT
DTSTART:20260308T070000
END:DAYLIGHT
BEGIN:STANDARD
TZOFFSETFROM:-0400
TZOFFSETTO:-0500
TZNAME:EST
DTSTART:20261101T060000
END:STANDARD
BEGIN:DAYLIGHT
TZOFFSETFROM:-0500
TZOFFSETTO:-0400
TZNAME:EDT
DTSTART:20270314T070000
END:DAYLIGHT
BEGIN:STANDARD
TZOFFSETFROM:-0400
TZOFFSETTO:-0500
TZNAME:EST
DTSTART:20271107T060000
END:STANDARD
END:VTIMEZONE
BEGIN:VEVENT
DTSTART;TZID=America/New_York:20260401T123000
DTEND;TZID=America/New_York:20260401T150000
DTSTAMP:20260423T121347
CREATED:20260326T144957Z
LAST-MODIFIED:20260326T144957Z
UID:27592-1775046600-1775055600@monroepl.org
SUMMARY:Color Yourself Calm: Adult Coloring
DESCRIPTION:Join us for Color Yourself Calm\, a relaxing\, self-guided coloring session for adults of all abilities. All materials are provided—including colored pencils\, crayons\, markers\, and a variety of coloring sheets—though you’re welcome to bring your own if you prefer. Drop in anytime during the session and stay for as long as you like. Settle in for peaceful solitude or connect with others in a calm\, creative atmosphere. Unwind\, recharge\, and enjoy a soothing break in your day!
URL:https://monroepl.org/event/color-yourself-calm-adult-coloring-3/
LOCATION:Hughes Library\, 1002 North 9th Street\, Stroudsburg\, PA\, 18360\, United States
CATEGORIES:Adult Coloring
END:VEVENT
END:VCALENDAR