BEGIN:VCALENDAR
VERSION:2.0
PRODID:-//Eastern Monroe Public Library - ECPv6.15.20//NONSGML v1.0//EN
CALSCALE:GREGORIAN
METHOD:PUBLISH
X-ORIGINAL-URL:https://monroepl.org
X-WR-CALDESC:Events for Eastern Monroe Public Library
REFRESH-INTERVAL;VALUE=DURATION:PT1H
X-Robots-Tag:noindex
X-PUBLISHED-TTL:PT1H
BEGIN:VTIMEZONE
TZID:America/New_York
BEGIN:DAYLIGHT
TZOFFSETFROM:-0500
TZOFFSETTO:-0400
TZNAME:EDT
DTSTART:20250309T070000
END:DAYLIGHT
BEGIN:STANDARD
TZOFFSETFROM:-0400
TZOFFSETTO:-0500
TZNAME:EST
DTSTART:20251102T060000
END:STANDARD
BEGIN:DAYLIGHT
TZOFFSETFROM:-0500
TZOFFSETTO:-0400
TZNAME:EDT
DTSTART:20260308T070000
END:DAYLIGHT
BEGIN:STANDARD
TZOFFSETFROM:-0400
TZOFFSETTO:-0500
TZNAME:EST
DTSTART:20261101T060000
END:STANDARD
BEGIN:DAYLIGHT
TZOFFSETFROM:-0500
TZOFFSETTO:-0400
TZNAME:EDT
DTSTART:20270314T070000
END:DAYLIGHT
BEGIN:STANDARD
TZOFFSETFROM:-0400
TZOFFSETTO:-0500
TZNAME:EST
DTSTART:20271107T060000
END:STANDARD
END:VTIMEZONE
BEGIN:VEVENT
DTSTART;TZID=America/New_York:20260513T130000
DTEND;TZID=America/New_York:20260513T150000
DTSTAMP:20260423T150136
CREATED:20251115T184103Z
LAST-MODIFIED:20260309T224827Z
UID:25958-1778677200-1778684400@monroepl.org
SUMMARY:The BookTalk Book Club
DESCRIPTION:This book club meets at our flagship Hughes branch on the second Wednesday of every month at 1:00 pm. Members attend in-person in our 1st-floor Board Room. This month’s selection of the BookTalk Book Club is Kazuo Ishiguro’s Klara and the Sun.
URL:https://monroepl.org/event/the-booktalk-book-club-5/
LOCATION:Hughes Library\, 1002 North 9th Street\, Stroudsburg\, PA\, 18360\, United States
CATEGORIES:Book Club
END:VEVENT
BEGIN:VEVENT
DTSTART;TZID=America/New_York:20260610T130000
DTEND;TZID=America/New_York:20260610T150000
DTSTAMP:20260423T150136
CREATED:20251115T184151Z
LAST-MODIFIED:20260309T224955Z
UID:25960-1781096400-1781103600@monroepl.org
SUMMARY:The BookTalk Book Club
DESCRIPTION:This book club meets at our flagship Hughes branch on the second Wednesday of every month at 1:00 pm. Members attend in-person in our 1st-floor Board Room. This month’s selection of the BookTalk Book Club is Amanda Skenandora’s The Second Life of Mirielle West.
URL:https://monroepl.org/event/the-booktalk-book-club-6/
LOCATION:Hughes Library\, 1002 North 9th Street\, Stroudsburg\, PA\, 18360\, United States
CATEGORIES:Book Club
END:VEVENT
BEGIN:VEVENT
DTSTART;TZID=America/New_York:20260708T130000
DTEND;TZID=America/New_York:20260708T150000
DTSTAMP:20260423T150136
CREATED:20251115T184238Z
LAST-MODIFIED:20260309T225133Z
UID:25962-1783515600-1783522800@monroepl.org
SUMMARY:The BookTalk Book Club
DESCRIPTION:This book club meets at our flagship Hughes branch on the second Wednesday of every month at 1:00 pm. Members attend in-person in our 1st-floor Board Room. This month’s selection of the BookTalk Book Club is John Grisham’s The Street Lawyer.
URL:https://monroepl.org/event/the-booktalk-book-club-7/
LOCATION:Hughes Library\, 1002 North 9th Street\, Stroudsburg\, PA\, 18360\, United States
CATEGORIES:Book Club
END:VEVENT
BEGIN:VEVENT
DTSTART;TZID=America/New_York:20260909T130000
DTEND;TZID=America/New_York:20260909T150000
DTSTAMP:20260423T150136
CREATED:20251115T184357Z
LAST-MODIFIED:20251115T184357Z
UID:25966-1788958800-1788966000@monroepl.org
SUMMARY:The BookTalk Book Club
DESCRIPTION:This book club meets at our flagship Hughes branch on the second Wednesday of every month at 1:00 pm. Members attend in-person in our 1st-floor Board Room. This month’s selection of the BookTalk Book Club is TBD.
URL:https://monroepl.org/event/the-booktalk-book-club-9/
LOCATION:Hughes Library\, 1002 North 9th Street\, Stroudsburg\, PA\, 18360\, United States
CATEGORIES:Book Club
END:VEVENT
BEGIN:VEVENT
DTSTART;TZID=America/New_York:20261014T130000
DTEND;TZID=America/New_York:20261014T150000
DTSTAMP:20260423T150136
CREATED:20251115T184453Z
LAST-MODIFIED:20251115T184453Z
UID:25968-1791982800-1791990000@monroepl.org
SUMMARY:The BookTalk Book Club
DESCRIPTION:This book club meets at our flagship Hughes branch on the second Wednesday of every month at 1:00 pm. Members attend in-person in our 1st-floor Board Room. This month’s selection of the BookTalk Book Club is TBD.
URL:https://monroepl.org/event/the-booktalk-book-club-10/
LOCATION:Hughes Library\, 1002 North 9th Street\, Stroudsburg\, PA\, 18360\, United States
CATEGORIES:Book Club
END:VEVENT
BEGIN:VEVENT
DTSTART;TZID=America/New_York:20261111T130000
DTEND;TZID=America/New_York:20261111T150000
DTSTAMP:20260423T150136
CREATED:20251115T184546Z
LAST-MODIFIED:20251115T184546Z
UID:25971-1794402000-1794409200@monroepl.org
SUMMARY:The BookTalk Book Club
DESCRIPTION:This book club meets at our flagship Hughes branch on the second Wednesday of every month at 1:00 pm. Members attend in-person in our 1st-floor Board Room. This month’s selection of the BookTalk Book Club is TBD.
URL:https://monroepl.org/event/the-booktalk-book-club-11/
LOCATION:Hughes Library\, 1002 North 9th Street\, Stroudsburg\, PA\, 18360\, United States
CATEGORIES:Book Club
END:VEVENT
END:VCALENDAR