BEGIN:VCALENDAR
VERSION:2.0
PRODID:-//Eastern Monroe Public Library - ECPv6.15.20//NONSGML v1.0//EN
CALSCALE:GREGORIAN
METHOD:PUBLISH
X-WR-CALNAME:Eastern Monroe Public Library
X-ORIGINAL-URL:https://monroepl.org
X-WR-CALDESC:Events for Eastern Monroe Public Library
REFRESH-INTERVAL;VALUE=DURATION:PT1H
X-Robots-Tag:noindex
X-PUBLISHED-TTL:PT1H
BEGIN:VTIMEZONE
TZID:America/New_York
BEGIN:DAYLIGHT
TZOFFSETFROM:-0500
TZOFFSETTO:-0400
TZNAME:EDT
DTSTART:20250309T070000
END:DAYLIGHT
BEGIN:STANDARD
TZOFFSETFROM:-0400
TZOFFSETTO:-0500
TZNAME:EST
DTSTART:20251102T060000
END:STANDARD
BEGIN:DAYLIGHT
TZOFFSETFROM:-0500
TZOFFSETTO:-0400
TZNAME:EDT
DTSTART:20260308T070000
END:DAYLIGHT
BEGIN:STANDARD
TZOFFSETFROM:-0400
TZOFFSETTO:-0500
TZNAME:EST
DTSTART:20261101T060000
END:STANDARD
BEGIN:DAYLIGHT
TZOFFSETFROM:-0500
TZOFFSETTO:-0400
TZNAME:EDT
DTSTART:20270314T070000
END:DAYLIGHT
BEGIN:STANDARD
TZOFFSETFROM:-0400
TZOFFSETTO:-0500
TZNAME:EST
DTSTART:20271107T060000
END:STANDARD
END:VTIMEZONE
BEGIN:VEVENT
DTSTART;TZID=America/New_York:20260212T123000
DTEND;TZID=America/New_York:20260212T153000
DTSTAMP:20260423T192230
CREATED:20260128T142129Z
LAST-MODIFIED:20260128T142129Z
UID:26677-1770899400-1770910200@monroepl.org
SUMMARY:Heart Health Awareness Info. Booth
DESCRIPTION:Heart Health Awareness Info. Booth\nThursday\, February 12th\, 12:30-3:30pm  (drop-in) – Hughes Lobby \nDuring American Heart Month\, this booth offers a chance to explore steps that help support a strong and healthy heart. A PA Department of Health representative will be there to talk about topics such as heart-healthy habits or staying aware of risk factors. All are encouraged to stop by and take part. Drop in anytime—no appointment or registration needed.
URL:https://monroepl.org/event/heart-health-awareness-info-booth/
LOCATION:Hughes Library\, 1002 North 9th Street\, Stroudsburg\, PA\, 18360\, United States
CATEGORIES:Health Program,Information Table
END:VEVENT
END:VCALENDAR