BEGIN:VCALENDAR
VERSION:2.0
PRODID:-//Eastern Monroe Public Library - ECPv6.15.20//NONSGML v1.0//EN
CALSCALE:GREGORIAN
METHOD:PUBLISH
X-WR-CALNAME:Eastern Monroe Public Library
X-ORIGINAL-URL:https://monroepl.org
X-WR-CALDESC:Events for Eastern Monroe Public Library
REFRESH-INTERVAL;VALUE=DURATION:PT1H
X-Robots-Tag:noindex
X-PUBLISHED-TTL:PT1H
BEGIN:VTIMEZONE
TZID:America/New_York
BEGIN:DAYLIGHT
TZOFFSETFROM:-0500
TZOFFSETTO:-0400
TZNAME:EDT
DTSTART:20250309T070000
END:DAYLIGHT
BEGIN:STANDARD
TZOFFSETFROM:-0400
TZOFFSETTO:-0500
TZNAME:EST
DTSTART:20251102T060000
END:STANDARD
BEGIN:DAYLIGHT
TZOFFSETFROM:-0500
TZOFFSETTO:-0400
TZNAME:EDT
DTSTART:20260308T070000
END:DAYLIGHT
BEGIN:STANDARD
TZOFFSETFROM:-0400
TZOFFSETTO:-0500
TZNAME:EST
DTSTART:20261101T060000
END:STANDARD
BEGIN:DAYLIGHT
TZOFFSETFROM:-0500
TZOFFSETTO:-0400
TZNAME:EDT
DTSTART:20270314T070000
END:DAYLIGHT
BEGIN:STANDARD
TZOFFSETFROM:-0400
TZOFFSETTO:-0500
TZNAME:EST
DTSTART:20271107T060000
END:STANDARD
END:VTIMEZONE
BEGIN:VEVENT
DTSTART;TZID=America/New_York:20260316T110000
DTEND;TZID=America/New_York:20260316T123000
DTSTAMP:20260423T150143
CREATED:20260219T181058Z
LAST-MODIFIED:20260219T181058Z
UID:26977-1773658800-1773664200@monroepl.org
SUMMARY:Seed Sowing Workshop: Learn to successfully start plants from seed
DESCRIPTION:Seed Sowing Workshop: Learn to successfully start plants from seed\nMonday\, March 16th\, 11am – Community Room \nGet a jump start on the gardening season by learning how to successfully start plants from seed. In this hands-on workshop\, Master Gardeners will guide participants through the basics of seed starting\, from selecting quality seeds to providing the right light\, temperature\, and moisture for healthy seedlings. Topics will include choosing appropriate containers and growing media\, understanding seed packets and germination requirements\, preventing common seedling problems\, and knowing when and how to transplant seedlings into the garden. Registration required. For adults only (ages 18+). Registration opens Monday\, February 23rd. To register\, call 570-421-0800 ext. 317. 
URL:https://monroepl.org/event/seed-sowing-workshop-learn-to-successfully-start-plants-from-seed/
LOCATION:Hughes Library\, 1002 North 9th Street\, Stroudsburg\, PA\, 18360\, United States
CATEGORIES:Free Workshop
END:VEVENT
END:VCALENDAR