BEGIN:VCALENDAR
VERSION:2.0
PRODID:-//Eastern Monroe Public Library - ECPv6.15.20//NONSGML v1.0//EN
CALSCALE:GREGORIAN
METHOD:PUBLISH
X-ORIGINAL-URL:https://monroepl.org
X-WR-CALDESC:Events for Eastern Monroe Public Library
REFRESH-INTERVAL;VALUE=DURATION:PT1H
X-Robots-Tag:noindex
X-PUBLISHED-TTL:PT1H
BEGIN:VTIMEZONE
TZID:America/New_York
BEGIN:DAYLIGHT
TZOFFSETFROM:-0500
TZOFFSETTO:-0400
TZNAME:EDT
DTSTART:20250309T070000
END:DAYLIGHT
BEGIN:STANDARD
TZOFFSETFROM:-0400
TZOFFSETTO:-0500
TZNAME:EST
DTSTART:20251102T060000
END:STANDARD
BEGIN:DAYLIGHT
TZOFFSETFROM:-0500
TZOFFSETTO:-0400
TZNAME:EDT
DTSTART:20260308T070000
END:DAYLIGHT
BEGIN:STANDARD
TZOFFSETFROM:-0400
TZOFFSETTO:-0500
TZNAME:EST
DTSTART:20261101T060000
END:STANDARD
BEGIN:DAYLIGHT
TZOFFSETFROM:-0500
TZOFFSETTO:-0400
TZNAME:EDT
DTSTART:20270314T070000
END:DAYLIGHT
BEGIN:STANDARD
TZOFFSETFROM:-0400
TZOFFSETTO:-0500
TZNAME:EST
DTSTART:20271107T060000
END:STANDARD
END:VTIMEZONE
BEGIN:VEVENT
DTSTART;TZID=America/New_York:20260126T110000
DTEND;TZID=America/New_York:20260126T120000
DTSTAMP:20260423T162308
CREATED:20251222T191638Z
LAST-MODIFIED:20260122T134414Z
UID:26404-1769425200-1769428800@monroepl.org
SUMMARY:Healthy Eating Beyond the Scale: Guidance from GIANT’s Registered Dietitian
DESCRIPTION:Healthy Eating Beyond the Scale: Guidance from GIANT’s Registered Dietitian\nThis event has been canceled. We apologize for the inconvenience. \nMonday\, January 26th\, 11am – Eisemann Room \nDiscover smart strategies for weight wellness that go beyond the numbers. This in-person presentation by GIANT’s registered dietitian offers practical tips to help you build sustainable habits\, boost energy\, and feel your best—without fixating on the scale. Registration required. Call 570-421-0800 ext. 317. Register by Monday\, January 19th\, 2026.
URL:https://monroepl.org/event/healthy-eating-beyond-the-scale-guidance-from-giants-registered-dietitian/
LOCATION:Hughes Library\, 1002 North 9th Street\, Stroudsburg\, PA\, 18360\, United States
CATEGORIES:Health Program
END:VEVENT
BEGIN:VEVENT
DTSTART;TZID=America/New_York:20260126T130000
DTEND;TZID=America/New_York:20260126T160000
DTSTAMP:20260423T162308
CREATED:20251222T191802Z
LAST-MODIFIED:20260125T210455Z
UID:26406-1769432400-1769443200@monroepl.org
SUMMARY:New Year Wellness Health Booth
DESCRIPTION:New Year Wellness Health Booth\nMonday\, January 26th\, 1pm-4pm (drop-in) – Hughes Lobby \nCelebrate International Quality of Life Month by stopping in to explore simple ways to start the year feeling your best. A PA Department of Health representative will be available to chat about topics such as building healthier routines or thinking about yearly wellness goals. We welcome anyone looking for a fresh start! Drop in anytime—no appointment or registration needed.
URL:https://monroepl.org/event/new-year-wellness-health-booth/
LOCATION:Hughes Library\, 1002 North 9th Street\, Stroudsburg\, PA\, 18360\, United States
CATEGORIES:Health Program
END:VEVENT
END:VCALENDAR