BEGIN:VCALENDAR
VERSION:2.0
PRODID:-//Eastern Monroe Public Library - ECPv6.15.20//NONSGML v1.0//EN
CALSCALE:GREGORIAN
METHOD:PUBLISH
X-ORIGINAL-URL:https://monroepl.org
X-WR-CALDESC:Events for Eastern Monroe Public Library
REFRESH-INTERVAL;VALUE=DURATION:PT1H
X-Robots-Tag:noindex
X-PUBLISHED-TTL:PT1H
BEGIN:VTIMEZONE
TZID:America/New_York
BEGIN:DAYLIGHT
TZOFFSETFROM:-0500
TZOFFSETTO:-0400
TZNAME:EDT
DTSTART:20250309T070000
END:DAYLIGHT
BEGIN:STANDARD
TZOFFSETFROM:-0400
TZOFFSETTO:-0500
TZNAME:EST
DTSTART:20251102T060000
END:STANDARD
BEGIN:DAYLIGHT
TZOFFSETFROM:-0500
TZOFFSETTO:-0400
TZNAME:EDT
DTSTART:20260308T070000
END:DAYLIGHT
BEGIN:STANDARD
TZOFFSETFROM:-0400
TZOFFSETTO:-0500
TZNAME:EST
DTSTART:20261101T060000
END:STANDARD
BEGIN:DAYLIGHT
TZOFFSETFROM:-0500
TZOFFSETTO:-0400
TZNAME:EDT
DTSTART:20270314T070000
END:DAYLIGHT
BEGIN:STANDARD
TZOFFSETFROM:-0400
TZOFFSETTO:-0500
TZNAME:EST
DTSTART:20271107T060000
END:STANDARD
END:VTIMEZONE
BEGIN:VEVENT
DTSTART;TZID=America/New_York:20260304T140000
DTEND;TZID=America/New_York:20260304T160000
DTSTAMP:20260423T194528
CREATED:20260219T180407Z
LAST-MODIFIED:20260219T180407Z
UID:26965-1772632800-1772640000@monroepl.org
SUMMARY:Free Weekday Matinee Film: Norma Rae (1979)
DESCRIPTION:Free Weekday Matinee Film: Norma Rae (1979) \nWednesday\, March 4th\, 2pm-4pm — Community Room \nIn celebration of Women’s History Month\, join us for Norma Rae (1979)\, a powerful\, Oscar-winning drama directed by Martin Ritt. Sally Field delivers an unforgettable\, Academy Award–winning performance as a determined Southern textile worker who risks everything to organize her coworkers at a small-town cotton mill. Inspired by the true story of labor activist Crystal Lee Sutton\, the film is a moving portrait of courage\, solidarity\, and the fight for dignity at work. Feel free to bring a chair cushion or pillow for extra comfort. Rated PG (parental guidance suggested). Shown with closed captions/English subtitles.
URL:https://monroepl.org/event/free-weekday-matinee-film-norma-rae-1979/
LOCATION:Hughes Library\, 1002 North 9th Street\, Stroudsburg\, PA\, 18360\, United States
CATEGORIES:Free Film
END:VEVENT
END:VCALENDAR