BEGIN:VCALENDAR
VERSION:2.0
PRODID:-//Eastern Monroe Public Library - ECPv6.15.20//NONSGML v1.0//EN
CALSCALE:GREGORIAN
METHOD:PUBLISH
X-ORIGINAL-URL:https://monroepl.org
X-WR-CALDESC:Events for Eastern Monroe Public Library
REFRESH-INTERVAL;VALUE=DURATION:PT1H
X-Robots-Tag:noindex
X-PUBLISHED-TTL:PT1H
BEGIN:VTIMEZONE
TZID:America/New_York
BEGIN:DAYLIGHT
TZOFFSETFROM:-0500
TZOFFSETTO:-0400
TZNAME:EDT
DTSTART:20250309T070000
END:DAYLIGHT
BEGIN:STANDARD
TZOFFSETFROM:-0400
TZOFFSETTO:-0500
TZNAME:EST
DTSTART:20251102T060000
END:STANDARD
BEGIN:DAYLIGHT
TZOFFSETFROM:-0500
TZOFFSETTO:-0400
TZNAME:EDT
DTSTART:20260308T070000
END:DAYLIGHT
BEGIN:STANDARD
TZOFFSETFROM:-0400
TZOFFSETTO:-0500
TZNAME:EST
DTSTART:20261101T060000
END:STANDARD
BEGIN:DAYLIGHT
TZOFFSETFROM:-0500
TZOFFSETTO:-0400
TZNAME:EDT
DTSTART:20270314T070000
END:DAYLIGHT
BEGIN:STANDARD
TZOFFSETFROM:-0400
TZOFFSETTO:-0500
TZNAME:EST
DTSTART:20271107T060000
END:STANDARD
END:VTIMEZONE
BEGIN:VEVENT
DTSTART;TZID=America/New_York:20260417T190000
DTEND;TZID=America/New_York:20260417T190000
DTSTAMP:20260423T145724
CREATED:20260323T233103Z
LAST-MODIFIED:20260323T233103Z
UID:27461-1776452400-1776452400@monroepl.org
SUMMARY:Free BookHouse Concert: Bluesography with Son Lewis
DESCRIPTION:In Bluesography\, Son Lewis presents a solo acoustic performance tracing the development of blues from its earliest roots to modern styles. Through music\, narration\, and audience dialogue\, he explores how the blues helped shape many forms of American popular music—including jazz\, country\, rock & roll\, and more. Light refreshments will be available for a small charge\, and donations are gratefully appreciated to help support this ongoing music series. \nDoors open at 6:30 p.m. the night of each event\, and the performance will begin promptly at 7:00 p.m. Seating is limited and available on a first-come\, first-serve basis. Please plan to arrive before the scheduled starting time.
URL:https://monroepl.org/event/free-bookhouse-concert-bluesography-with-son-lewis/
LOCATION:Hughes Library\, 1002 North 9th Street\, Stroudsburg\, PA\, 18360\, United States
CATEGORIES:Free Concert
END:VEVENT
BEGIN:VEVENT
DTSTART;TZID=America/New_York:20260206T183000
DTEND;TZID=America/New_York:20260206T183000
DTSTAMP:20260423T145724
CREATED:20260108T144451Z
LAST-MODIFIED:20260108T145128Z
UID:26549-1770402600-1770402600@monroepl.org
SUMMARY:Free BookHouse Concert: "Jazz Legends A to Z" with Khalil Kwame Bell
DESCRIPTION:Our free semi-monthly BookHouse Concerts series kicks-off with its first performance of 2026 with “Jazz Legends A To Z” featuring Kahlil Kwame Bell. He is a Grammy-affiliated percussionist\, composer\, author\, and former music educator. Get ready for an evening of music and fun! \nThe concert occurs at our main Hughes Branch building. Admission is free and open to the public\, and refreshments are available for a modest charge. Doors open at 6:30 p.m.\, and the performance will begin promptly at 7:00 p.m. Seating is limited and available on a first-come\, first-serve basis. Please plan to arrive before the scheduled starting time. \n 
URL:https://monroepl.org/event/free-bookhouse-concert-jazz-legends-a-to-z-with-khalil-kwame-bell/
LOCATION:Hughes Library\, 1002 North 9th Street\, Stroudsburg\, PA\, 18360\, United States
CATEGORIES:Free Concert
END:VEVENT
END:VCALENDAR