BEGIN:VCALENDAR
VERSION:2.0
PRODID:-//Eastern Monroe Public Library - ECPv6.15.20//NONSGML v1.0//EN
CALSCALE:GREGORIAN
METHOD:PUBLISH
X-ORIGINAL-URL:https://monroepl.org
X-WR-CALDESC:Events for Eastern Monroe Public Library
REFRESH-INTERVAL;VALUE=DURATION:PT1H
X-Robots-Tag:noindex
X-PUBLISHED-TTL:PT1H
BEGIN:VTIMEZONE
TZID:America/New_York
BEGIN:DAYLIGHT
TZOFFSETFROM:-0500
TZOFFSETTO:-0400
TZNAME:EDT
DTSTART:20250309T070000
END:DAYLIGHT
BEGIN:STANDARD
TZOFFSETFROM:-0400
TZOFFSETTO:-0500
TZNAME:EST
DTSTART:20251102T060000
END:STANDARD
BEGIN:DAYLIGHT
TZOFFSETFROM:-0500
TZOFFSETTO:-0400
TZNAME:EDT
DTSTART:20260308T070000
END:DAYLIGHT
BEGIN:STANDARD
TZOFFSETFROM:-0400
TZOFFSETTO:-0500
TZNAME:EST
DTSTART:20261101T060000
END:STANDARD
BEGIN:DAYLIGHT
TZOFFSETFROM:-0500
TZOFFSETTO:-0400
TZNAME:EDT
DTSTART:20270314T070000
END:DAYLIGHT
BEGIN:STANDARD
TZOFFSETFROM:-0400
TZOFFSETTO:-0500
TZNAME:EST
DTSTART:20271107T060000
END:STANDARD
END:VTIMEZONE
BEGIN:VEVENT
DTSTART;TZID=America/New_York:20260406T150000
DTEND;TZID=America/New_York:20260406T163000
DTSTAMP:20260423T121906
CREATED:20260323T230356Z
LAST-MODIFIED:20260323T230356Z
UID:27439-1775487600-1775493000@monroepl.org
SUMMARY:Monday Sit & Stitch Session
DESCRIPTION:Join a friendly\, come-as-you-are gathering of fellow makers where you can bring your current project\, chat\, share ideas\, and enjoy a relaxed creative atmosphere. This is a social meet-up\, not a class\, but you may find others who practice the same craft and are happy to lend an ear\, offer a hand\, or swap tips. All crafts are welcome—just bring your own supplies. No registration needed; drop in anytime. For adults\, but ages 14+ welcome. We meet first and third Monday afternoons (3:00pm-4:30pm) and Second Sunday afternoons (1:00pm-3:00pm)!
URL:https://monroepl.org/event/monday-sit-stitch-session/
LOCATION:Hughes Library\, 1002 North 9th Street\, Stroudsburg\, PA\, 18360\, United States
CATEGORIES:Craft
END:VEVENT
END:VCALENDAR