BEGIN:VCALENDAR
VERSION:2.0
PRODID:-//Eastern Monroe Public Library - ECPv6.15.20//NONSGML v1.0//EN
CALSCALE:GREGORIAN
METHOD:PUBLISH
X-WR-CALNAME:Eastern Monroe Public Library
X-ORIGINAL-URL:https://monroepl.org
X-WR-CALDESC:Events for Eastern Monroe Public Library
REFRESH-INTERVAL;VALUE=DURATION:PT1H
X-Robots-Tag:noindex
X-PUBLISHED-TTL:PT1H
BEGIN:VTIMEZONE
TZID:America/New_York
BEGIN:DAYLIGHT
TZOFFSETFROM:-0500
TZOFFSETTO:-0400
TZNAME:EDT
DTSTART:20250309T070000
END:DAYLIGHT
BEGIN:STANDARD
TZOFFSETFROM:-0400
TZOFFSETTO:-0500
TZNAME:EST
DTSTART:20251102T060000
END:STANDARD
BEGIN:DAYLIGHT
TZOFFSETFROM:-0500
TZOFFSETTO:-0400
TZNAME:EDT
DTSTART:20260308T070000
END:DAYLIGHT
BEGIN:STANDARD
TZOFFSETFROM:-0400
TZOFFSETTO:-0500
TZNAME:EST
DTSTART:20261101T060000
END:STANDARD
BEGIN:DAYLIGHT
TZOFFSETFROM:-0500
TZOFFSETTO:-0400
TZNAME:EDT
DTSTART:20270314T070000
END:DAYLIGHT
BEGIN:STANDARD
TZOFFSETFROM:-0400
TZOFFSETTO:-0500
TZNAME:EST
DTSTART:20271107T060000
END:STANDARD
END:VTIMEZONE
BEGIN:VEVENT
DTSTART;TZID=America/New_York:20260208T130000
DTEND;TZID=America/New_York:20260208T150000
DTSTAMP:20260423T162309
CREATED:20260128T141903Z
LAST-MODIFIED:20260128T141903Z
UID:26671-1770555600-1770562800@monroepl.org
SUMMARY:Sunday Sit & Stitch
DESCRIPTION:Sunday Sit & Stitch \nSunday\, February  8th\, 1pm-3pm – Eisemann Room \nNOTE! New times for 2026: Mondays (1st and 3rd)\, 3:00–4:30 p.m.\, and Sundays (2nd Sundays)\, 1:00–3:00 p.m.\, all in the Eisemann Room. Join a friendly\, come-as-you-are gathering of fellow makers where you can bring your current project\, chat\, share ideas\, and enjoy a relaxed creative atmosphere. This is a social meet-up\, not a class\, but you may find others who practice the same craft and are happy to lend an ear\, offer a hand\, or swap tips. All crafts are welcome—just bring your own supplies. No registration needed; drop in anytim
URL:https://monroepl.org/event/sunday-sit-stitch/
LOCATION:Hughes Library\, 1002 North 9th Street\, Stroudsburg\, PA\, 18360\, United States
CATEGORIES:Craft
END:VEVENT
END:VCALENDAR