BEGIN:VCALENDAR
VERSION:2.0
PRODID:-//Eastern Monroe Public Library - ECPv6.15.20//NONSGML v1.0//EN
CALSCALE:GREGORIAN
METHOD:PUBLISH
X-ORIGINAL-URL:https://monroepl.org
X-WR-CALDESC:Events for Eastern Monroe Public Library
REFRESH-INTERVAL;VALUE=DURATION:PT1H
X-Robots-Tag:noindex
X-PUBLISHED-TTL:PT1H
BEGIN:VTIMEZONE
TZID:America/New_York
BEGIN:DAYLIGHT
TZOFFSETFROM:-0500
TZOFFSETTO:-0400
TZNAME:EDT
DTSTART:20250309T070000
END:DAYLIGHT
BEGIN:STANDARD
TZOFFSETFROM:-0400
TZOFFSETTO:-0500
TZNAME:EST
DTSTART:20251102T060000
END:STANDARD
BEGIN:DAYLIGHT
TZOFFSETFROM:-0500
TZOFFSETTO:-0400
TZNAME:EDT
DTSTART:20260308T070000
END:DAYLIGHT
BEGIN:STANDARD
TZOFFSETFROM:-0400
TZOFFSETTO:-0500
TZNAME:EST
DTSTART:20261101T060000
END:STANDARD
BEGIN:DAYLIGHT
TZOFFSETFROM:-0500
TZOFFSETTO:-0400
TZNAME:EDT
DTSTART:20270314T070000
END:DAYLIGHT
BEGIN:STANDARD
TZOFFSETFROM:-0400
TZOFFSETTO:-0500
TZNAME:EST
DTSTART:20271107T060000
END:STANDARD
END:VTIMEZONE
BEGIN:VEVENT
DTSTART;TZID=America/New_York:20260302T150000
DTEND;TZID=America/New_York:20260302T163000
DTSTAMP:20260423T121236
CREATED:20260219T180301Z
LAST-MODIFIED:20260219T180301Z
UID:26961-1772463600-1772469000@monroepl.org
SUMMARY:Monday Sit & Sitch (drop-in)
DESCRIPTION:Monday Sit & Stitch Sessions\nMonday\, March 2nd\, 3pm-4:30pm – Eisemann Room \nMonday\, March 16th\, 3pm-4:30pm – Eisemann Room \n  \nJoin a friendly\, come-as-you-are gathering of fellow makers where you can bring your current project\, chat\, share ideas\, and enjoy a relaxed creative atmosphere. This is a social meet-up\, not a class\, but you may find others who practice the same craft and are happy to lend an ear\, offer a hand\, or swap tips. All crafts are welcome—just bring your own supplies. No registration needed; drop in anytime. We meet first and third Monday afternoons (3pm-4:30pm) and Second Sunday afternoons (1pm-3pm)! 
URL:https://monroepl.org/event/monday-sit-sitch-drop-in/
LOCATION:Hughes Library\, 1002 North 9th Street\, Stroudsburg\, PA\, 18360\, United States
CATEGORIES:Craft
END:VEVENT
BEGIN:VEVENT
DTSTART;TZID=America/New_York:20260306T130000
DTEND;TZID=America/New_York:20260306T150000
DTSTAMP:20260423T121236
CREATED:20260219T180553Z
LAST-MODIFIED:20260219T180553Z
UID:26967-1772802000-1772809200@monroepl.org
SUMMARY:Make Spring & St. Patrick’s Day Cards for Seniors: Share the Cheer! (Adults/Ages 18+)
DESCRIPTION:Make Spring & St. Patrick’s Day Cards for Seniors: Share the Cheer!\nFriday\, March 6th\, 1pm-3pm – Community Room \nHelp brighten a senior’s day by making handmade spring and St. Patrick’s Day cards. Your creations will be delivered along our Bookmobile route to local seniors. Supplies provided\, but feel free to bring your own. This is a self-guided program for adults; but teens ages 14+ are welcome. One session only — our last senior card program until summer! Can’t attend? Drop off completed cards at the second-floor Reference Desk. Please don’t seal envelopes or sign your name—use “Your Library Friend.” Drop-off deadline: Friday\, March 13th. Drop-in. No registration required. 
URL:https://monroepl.org/event/make-spring-st-patricks-day-cards-for-seniors-share-the-cheer-adults-ages-18/
LOCATION:Hughes Library\, 1002 North 9th Street\, Stroudsburg\, PA\, 18360\, United States
CATEGORIES:Craft
END:VEVENT
BEGIN:VEVENT
DTSTART;TZID=America/New_York:20260308T130000
DTEND;TZID=America/New_York:20260308T150000
DTSTAMP:20260423T121236
CREATED:20260219T180710Z
LAST-MODIFIED:20260219T180710Z
UID:26969-1772974800-1772982000@monroepl.org
SUMMARY:Sunday Sit & Stitch (drop-in)
DESCRIPTION:Sunday Sit & Stitch \nSunday\, March 8th\, 1pm-3pm – Eisemann Room \nJoin a friendly\, come-as-you-are gathering of fellow makers where you can bring your current project\, chat\, share ideas\, and enjoy a relaxed creative atmosphere. This is a social meet-up\, not a class\, but you may find others who practice the same craft and are happy to lend an ear\, offer a hand\, or swap tips. All crafts are welcome—just bring your own supplies. No registration needed; drop in anytime. We meet first and third Monday afternoons (3pm-4:30pm) and Second Sunday afternoons (1pm-3pm)! 
URL:https://monroepl.org/event/sunday-sit-stitch-drop-in/
LOCATION:Hughes Library\, 1002 North 9th Street\, Stroudsburg\, PA\, 18360\, United States
CATEGORIES:Craft
END:VEVENT
BEGIN:VEVENT
DTSTART;TZID=America/New_York:20260309T110000
DTEND;TZID=America/New_York:20260309T123000
DTSTAMP:20260423T121236
CREATED:20260219T180817Z
LAST-MODIFIED:20260219T180817Z
UID:26971-1773054000-1773059400@monroepl.org
SUMMARY:St. Patrick’s Day Cupcake Liner Trees (Adult Craft) - Registration Required
DESCRIPTION:St. Patrick’s Day Cupcake Liner Trees (Adult Craft)\nMonday\, March 9th\, 11am – Eisemann Room \nCelebrate St. Patrick’s Day with a relaxed\, social craft program for adults. Participants will create St. Patrick’s Day–themed cupcake liner trees using green-and-white liners and festive toppers\, with directions and support provided by a library staff member. As we craft\, we’ll enjoy conversation and learn a bit about the history of St. Patrick’s Day and Irish-American traditions. Feel free to share your own traditions and memories along the way. This is a beginner-friendly\, low-pressure activity focused on fun and connection rather than perfection—results may vary! All supplies are provided. Registration required. For adults only (ages 18+). Registration opens Monday\, February 16th. To register\, call 570-421-0800 ext. 317. 
URL:https://monroepl.org/event/st-patricks-day-cupcake-liner-trees-adult-craft-registration-required/
LOCATION:Hughes Library\, 1002 North 9th Street\, Stroudsburg\, PA\, 18360\, United States
CATEGORIES:Craft
END:VEVENT
BEGIN:VEVENT
DTSTART;TZID=America/New_York:20260316T150000
DTEND;TZID=America/New_York:20260316T163000
DTSTAMP:20260423T121236
CREATED:20260219T180328Z
LAST-MODIFIED:20260219T180328Z
UID:26963-1773673200-1773678600@monroepl.org
SUMMARY:Monday Sit & Stitch (drop-in)
DESCRIPTION:Monday Sit & Stitch Sessions\nMonday\, March 2nd\, 3pm-4:30pm – Eisemann Room \nMonday\, March 16th\, 3pm-4:30pm – Eisemann Room \n  \nJoin a friendly\, come-as-you-are gathering of fellow makers where you can bring your current project\, chat\, share ideas\, and enjoy a relaxed creative atmosphere. This is a social meet-up\, not a class\, but you may find others who practice the same craft and are happy to lend an ear\, offer a hand\, or swap tips. All crafts are welcome—just bring your own supplies. No registration needed; drop in anytime. We meet first and third Monday afternoons (3pm-4:30pm) and Second Sunday afternoons (1pm-3pm)! 
URL:https://monroepl.org/event/monday-sit-stitch-drop-in/
LOCATION:Hughes Library\, 1002 North 9th Street\, Stroudsburg\, PA\, 18360\, United States
CATEGORIES:Craft
END:VEVENT
END:VCALENDAR