BEGIN:VCALENDAR
VERSION:2.0
PRODID:-//Eastern Monroe Public Library - ECPv6.15.20//NONSGML v1.0//EN
CALSCALE:GREGORIAN
METHOD:PUBLISH
X-ORIGINAL-URL:https://monroepl.org
X-WR-CALDESC:Events for Eastern Monroe Public Library
REFRESH-INTERVAL;VALUE=DURATION:PT1H
X-Robots-Tag:noindex
X-PUBLISHED-TTL:PT1H
BEGIN:VTIMEZONE
TZID:America/New_York
BEGIN:DAYLIGHT
TZOFFSETFROM:-0500
TZOFFSETTO:-0400
TZNAME:EDT
DTSTART:20250309T070000
END:DAYLIGHT
BEGIN:STANDARD
TZOFFSETFROM:-0400
TZOFFSETTO:-0500
TZNAME:EST
DTSTART:20251102T060000
END:STANDARD
BEGIN:DAYLIGHT
TZOFFSETFROM:-0500
TZOFFSETTO:-0400
TZNAME:EDT
DTSTART:20260308T070000
END:DAYLIGHT
BEGIN:STANDARD
TZOFFSETFROM:-0400
TZOFFSETTO:-0500
TZNAME:EST
DTSTART:20261101T060000
END:STANDARD
BEGIN:DAYLIGHT
TZOFFSETFROM:-0500
TZOFFSETTO:-0400
TZNAME:EDT
DTSTART:20270314T070000
END:DAYLIGHT
BEGIN:STANDARD
TZOFFSETFROM:-0400
TZOFFSETTO:-0500
TZNAME:EST
DTSTART:20271107T060000
END:STANDARD
END:VTIMEZONE
BEGIN:VEVENT
DTSTART;TZID=America/New_York:20260416T140000
DTEND;TZID=America/New_York:20260416T140000
DTSTAMP:20260423T121712
CREATED:20260326T141019Z
LAST-MODIFIED:20260330T150705Z
UID:27568-1776348000-1776348000@monroepl.org
SUMMARY:Genealogy Resources Class: Explore Free Library Tools for Tracing Your Family History
DESCRIPTION:Uncover your family’s story using powerful research tools—all free through the library. This class introduces resources such as Ancestry Library Edition\, Newspapers.com Library Edition\, and additional digital archives. Learn which tools you can access from home\, which are available only in the library\, and how to begin or advance your genealogy research with confidence. Basic computer or smartphone/tablet skills recommended. You’re welcome to bring your own device—tablet\, smartphone\, or laptop. Registration required – space is limited. To register\, call 570-421-0800 ext. 317 or visit the Hughes Library 2nd-floor Reference Desk.
URL:https://monroepl.org/event/genealogy-resources-class-explore-free-library-tools-for-tracing-your-family-history-2/
LOCATION:Hughes Library\, 1002 North 9th Street\, Stroudsburg\, PA\, 18360\, United States
CATEGORIES:Computer Class
END:VEVENT
END:VCALENDAR