BEGIN:VCALENDAR
VERSION:2.0
PRODID:-//Eastern Monroe Public Library - ECPv6.15.20//NONSGML v1.0//EN
CALSCALE:GREGORIAN
METHOD:PUBLISH
X-ORIGINAL-URL:https://monroepl.org
X-WR-CALDESC:Events for Eastern Monroe Public Library
REFRESH-INTERVAL;VALUE=DURATION:PT1H
X-Robots-Tag:noindex
X-PUBLISHED-TTL:PT1H
BEGIN:VTIMEZONE
TZID:America/New_York
BEGIN:DAYLIGHT
TZOFFSETFROM:-0500
TZOFFSETTO:-0400
TZNAME:EDT
DTSTART:20250309T070000
END:DAYLIGHT
BEGIN:STANDARD
TZOFFSETFROM:-0400
TZOFFSETTO:-0500
TZNAME:EST
DTSTART:20251102T060000
END:STANDARD
BEGIN:DAYLIGHT
TZOFFSETFROM:-0500
TZOFFSETTO:-0400
TZNAME:EDT
DTSTART:20260308T070000
END:DAYLIGHT
BEGIN:STANDARD
TZOFFSETFROM:-0400
TZOFFSETTO:-0500
TZNAME:EST
DTSTART:20261101T060000
END:STANDARD
BEGIN:DAYLIGHT
TZOFFSETFROM:-0500
TZOFFSETTO:-0400
TZNAME:EDT
DTSTART:20270314T070000
END:DAYLIGHT
BEGIN:STANDARD
TZOFFSETFROM:-0400
TZOFFSETTO:-0500
TZNAME:EST
DTSTART:20271107T060000
END:STANDARD
END:VTIMEZONE
BEGIN:VEVENT
DTSTART;TZID=America/New_York:20260326T140000
DTEND;TZID=America/New_York:20260326T150000
DTSTAMP:20260423T133233
CREATED:20260219T182748Z
LAST-MODIFIED:20260326T153616Z
UID:27003-1774533600-1774537200@monroepl.org
SUMMARY:iPad & iPhone Basics Class: Essential Features & Functions for Beginners
DESCRIPTION:iPad & iPhone Basics Class: Essential Features & Functions for Beginners\nThursday\, March 26th\, 2pm \n  \nGet comfortable with your iPad or iPhone in this beginner-focused class. Learn essential features\, basic navigation\, and everyday functions to help you make the most of your Apple device. Perfect for new users or anyone wanting to build confidence with their iPhone or iPad. Bring your own device for hands-on practice. Registration required: Call 570-421-0800 ext. 317 or visit the Hughes Library Information Desk.
URL:https://monroepl.org/event/ipad-iphone-basics-class-essential-features-functions-for-beginners/
LOCATION:Hughes Library\, 1002 North 9th Street\, Stroudsburg\, PA\, 18360\, United States
CATEGORIES:Computer Class
END:VEVENT
END:VCALENDAR