BEGIN:VCALENDAR
VERSION:2.0
PRODID:-//Eastern Monroe Public Library - ECPv6.15.20//NONSGML v1.0//EN
CALSCALE:GREGORIAN
METHOD:PUBLISH
X-ORIGINAL-URL:https://monroepl.org
X-WR-CALDESC:Events for Eastern Monroe Public Library
REFRESH-INTERVAL;VALUE=DURATION:PT1H
X-Robots-Tag:noindex
X-PUBLISHED-TTL:PT1H
BEGIN:VTIMEZONE
TZID:America/New_York
BEGIN:DAYLIGHT
TZOFFSETFROM:-0500
TZOFFSETTO:-0400
TZNAME:EDT
DTSTART:20250309T070000
END:DAYLIGHT
BEGIN:STANDARD
TZOFFSETFROM:-0400
TZOFFSETTO:-0500
TZNAME:EST
DTSTART:20251102T060000
END:STANDARD
BEGIN:DAYLIGHT
TZOFFSETFROM:-0500
TZOFFSETTO:-0400
TZNAME:EDT
DTSTART:20260308T070000
END:DAYLIGHT
BEGIN:STANDARD
TZOFFSETFROM:-0400
TZOFFSETTO:-0500
TZNAME:EST
DTSTART:20261101T060000
END:STANDARD
BEGIN:DAYLIGHT
TZOFFSETFROM:-0500
TZOFFSETTO:-0400
TZNAME:EDT
DTSTART:20270314T070000
END:DAYLIGHT
BEGIN:STANDARD
TZOFFSETFROM:-0400
TZOFFSETTO:-0500
TZNAME:EST
DTSTART:20271107T060000
END:STANDARD
END:VTIMEZONE
BEGIN:VEVENT
DTSTART;TZID=America/New_York:20260219T140000
DTEND;TZID=America/New_York:20260219T150000
DTSTAMP:20260423T150146
CREATED:20260128T145054Z
LAST-MODIFIED:20260128T145054Z
UID:26701-1771509600-1771513200@monroepl.org
SUMMARY:Digital Library Class: Getting Started with E-Books\, E-Audiobooks & Streaming Entertainment 
DESCRIPTION:Digital Library Class: Getting Started with E-Books\, E-Audiobooks & Streaming Entertainment \nThursday\, February 19th\, 2026\, 2pm \n  \nDiscover the world of digital reading and entertainment available for free with your library card. Learn how to access and enjoy e-books\, e-audiobooks\, music\, movies\, and TV shows using Libby and Hoopla on your smartphone\, tablet\, or Kindle. We’ll guide you through browsing\, borrowing\, and finding your preferred formats. Basic smartphone or tablet skills are helpful. Bring your own device for hands-on practice. Registration required: Call 570-421-0800 ext. 317 or visit the Hughes Library Information Desk.
URL:https://monroepl.org/event/digital-library-class-getting-started-with-e-books-e-audiobooks-streaming-entertainment/
LOCATION:Hughes Library\, 1002 North 9th Street\, Stroudsburg\, PA\, 18360\, United States
CATEGORIES:Computer Class
END:VEVENT
END:VCALENDAR