BEGIN:VCALENDAR
VERSION:2.0
PRODID:-//Eastern Monroe Public Library - ECPv6.15.20//NONSGML v1.0//EN
CALSCALE:GREGORIAN
METHOD:PUBLISH
X-ORIGINAL-URL:https://monroepl.org
X-WR-CALDESC:Events for Eastern Monroe Public Library
REFRESH-INTERVAL;VALUE=DURATION:PT1H
X-Robots-Tag:noindex
X-PUBLISHED-TTL:PT1H
BEGIN:VTIMEZONE
TZID:America/New_York
BEGIN:DAYLIGHT
TZOFFSETFROM:-0500
TZOFFSETTO:-0400
TZNAME:EDT
DTSTART:20250309T070000
END:DAYLIGHT
BEGIN:STANDARD
TZOFFSETFROM:-0400
TZOFFSETTO:-0500
TZNAME:EST
DTSTART:20251102T060000
END:STANDARD
BEGIN:DAYLIGHT
TZOFFSETFROM:-0500
TZOFFSETTO:-0400
TZNAME:EDT
DTSTART:20260308T070000
END:DAYLIGHT
BEGIN:STANDARD
TZOFFSETFROM:-0400
TZOFFSETTO:-0500
TZNAME:EST
DTSTART:20261101T060000
END:STANDARD
BEGIN:DAYLIGHT
TZOFFSETFROM:-0500
TZOFFSETTO:-0400
TZNAME:EDT
DTSTART:20270314T070000
END:DAYLIGHT
BEGIN:STANDARD
TZOFFSETFROM:-0400
TZOFFSETTO:-0500
TZNAME:EST
DTSTART:20271107T060000
END:STANDARD
END:VTIMEZONE
BEGIN:VEVENT
DTSTART;TZID=America/New_York:20260212T140000
DTEND;TZID=America/New_York:20260212T150000
DTSTAMP:20260423T150145
CREATED:20260128T144941Z
LAST-MODIFIED:20260212T165239Z
UID:26699-1770904800-1770908400@monroepl.org
SUMMARY:Microsoft Word Basics Class: Essential Skills for Beginners - Canceled
DESCRIPTION:Microsoft Word Basics Class: Essential Skills for Beginners\nThursday\, February 12th\, 2026\, 2pm \nCANCELED DUE TO INSTRUCTOR ILLNESS \nStart your journey with Microsoft Word in this beginner-friendly class. Learn how to create\, save\, and format basic documents with step-by-step guidance. We’ll cover typing\, simple formatting\, and essential tools every new Word user should know. No prior experience necessary—perfect for absolute beginners. Laptops and mice provided. Registration required: Call 570-421-0800 ext. 317 or visit the Hughes Library Information Desk.
URL:https://monroepl.org/event/microsoft-word-basics-class-essential-skills-for-beginners/
LOCATION:PA
CATEGORIES:Computer Class
END:VEVENT
END:VCALENDAR