BEGIN:VCALENDAR
VERSION:2.0
PRODID:-//Eastern Monroe Public Library - ECPv6.15.20//NONSGML v1.0//EN
CALSCALE:GREGORIAN
METHOD:PUBLISH
X-WR-CALNAME:Eastern Monroe Public Library
X-ORIGINAL-URL:https://monroepl.org
X-WR-CALDESC:Events for Eastern Monroe Public Library
REFRESH-INTERVAL;VALUE=DURATION:PT1H
X-Robots-Tag:noindex
X-PUBLISHED-TTL:PT1H
BEGIN:VTIMEZONE
TZID:America/New_York
BEGIN:DAYLIGHT
TZOFFSETFROM:-0500
TZOFFSETTO:-0400
TZNAME:EDT
DTSTART:20250309T070000
END:DAYLIGHT
BEGIN:STANDARD
TZOFFSETFROM:-0400
TZOFFSETTO:-0500
TZNAME:EST
DTSTART:20251102T060000
END:STANDARD
BEGIN:DAYLIGHT
TZOFFSETFROM:-0500
TZOFFSETTO:-0400
TZNAME:EDT
DTSTART:20260308T070000
END:DAYLIGHT
BEGIN:STANDARD
TZOFFSETFROM:-0400
TZOFFSETTO:-0500
TZNAME:EST
DTSTART:20261101T060000
END:STANDARD
BEGIN:DAYLIGHT
TZOFFSETFROM:-0500
TZOFFSETTO:-0400
TZNAME:EDT
DTSTART:20270314T070000
END:DAYLIGHT
BEGIN:STANDARD
TZOFFSETFROM:-0400
TZOFFSETTO:-0500
TZNAME:EST
DTSTART:20271107T060000
END:STANDARD
END:VTIMEZONE
BEGIN:VEVENT
DTSTART;TZID=America/New_York:20260512T100000
DTEND;TZID=America/New_York:20260512T110000
DTSTAMP:20260423T192233
CREATED:20260211T182427Z
LAST-MODIFIED:20260211T182448Z
UID:26851-1778580000-1778583600@monroepl.org
SUMMARY:Crafts@Smithfields Library (ages 1-5)
DESCRIPTION:Ages 1-5. Make a variety of crafts. Walk-in.
URL:https://monroepl.org/event/craftssmithfields-library/
LOCATION:Smithfields Branch Library\, 5200 Milford Road\, East Stroudsburg\, PA\, 18302\, United States
CATEGORIES:Children's Program
END:VEVENT
BEGIN:VEVENT
DTSTART;TZID=America/New_York:20260513T100000
DTEND;TZID=America/New_York:20260513T110000
DTSTAMP:20260423T192233
CREATED:20260210T213255Z
LAST-MODIFIED:20260210T220636Z
UID:26830-1778666400-1778670000@monroepl.org
SUMMARY:Tiny Explorers Open Play (ages 1-3)
DESCRIPTION:Ages 1-3. Let your little ones explore\, build\, and make noise. Blocks\, trucks\, instruments\, and more! Chat with our early childhood professionals: Megan Gearhart\, Speech Therapist\, ECD Connections and Michelle Hiller\, Occupational Therapist\, Sunshine Therapeutic Services. Hughes. Walk-in.
URL:https://monroepl.org/event/tiny-explorers-open-play-5/
LOCATION:Hughes Library\, 1002 North 9th Street\, Stroudsburg\, PA\, 18360\, United States
CATEGORIES:Children's Program
END:VEVENT
BEGIN:VEVENT
DTSTART;TZID=America/New_York:20260514T100000
DTEND;TZID=America/New_York:20260514T110000
DTSTAMP:20260423T192233
CREATED:20260211T182209Z
LAST-MODIFIED:20260211T182209Z
UID:26849-1778752800-1778756400@monroepl.org
SUMMARY:Pre-K Crafts & Therapy Dog Visit: Bees in the Garden (ages 3-5)
DESCRIPTION:Ages 3-5. Join us for fun as you create a variety of crafts. Plus\, enjoy a special visit from our therapy dogs! Hughes. Registration begins Mon\, Apr 27. 570-421-0800 x305.
URL:https://monroepl.org/event/pre-k-crafts-therapy-dog-visit-bees-in-the-garden-ages-3-5/
LOCATION:Hughes Library\, 1002 North 9th Street\, Stroudsburg\, PA\, 18360\, United States
CATEGORIES:Children's Program
END:VEVENT
END:VCALENDAR