BEGIN:VCALENDAR
VERSION:2.0
PRODID:-//Eastern Monroe Public Library - ECPv6.15.20//NONSGML v1.0//EN
CALSCALE:GREGORIAN
METHOD:PUBLISH
X-WR-CALNAME:Eastern Monroe Public Library
X-ORIGINAL-URL:https://monroepl.org
X-WR-CALDESC:Events for Eastern Monroe Public Library
REFRESH-INTERVAL;VALUE=DURATION:PT1H
X-Robots-Tag:noindex
X-PUBLISHED-TTL:PT1H
BEGIN:VTIMEZONE
TZID:America/New_York
BEGIN:DAYLIGHT
TZOFFSETFROM:-0500
TZOFFSETTO:-0400
TZNAME:EDT
DTSTART:20250309T070000
END:DAYLIGHT
BEGIN:STANDARD
TZOFFSETFROM:-0400
TZOFFSETTO:-0500
TZNAME:EST
DTSTART:20251102T060000
END:STANDARD
BEGIN:DAYLIGHT
TZOFFSETFROM:-0500
TZOFFSETTO:-0400
TZNAME:EDT
DTSTART:20260308T070000
END:DAYLIGHT
BEGIN:STANDARD
TZOFFSETFROM:-0400
TZOFFSETTO:-0500
TZNAME:EST
DTSTART:20261101T060000
END:STANDARD
BEGIN:DAYLIGHT
TZOFFSETFROM:-0500
TZOFFSETTO:-0400
TZNAME:EDT
DTSTART:20270314T070000
END:DAYLIGHT
BEGIN:STANDARD
TZOFFSETFROM:-0400
TZOFFSETTO:-0500
TZNAME:EST
DTSTART:20271107T060000
END:STANDARD
END:VTIMEZONE
BEGIN:VEVENT
DTSTART;TZID=America/New_York:20260422T100000
DTEND;TZID=America/New_York:20260422T110000
DTSTAMP:20260423T103012
CREATED:20260210T213525Z
LAST-MODIFIED:20260210T220554Z
UID:26832-1776852000-1776855600@monroepl.org
SUMMARY:Earth Day Crafts@Smithfields (ages 1-5)
DESCRIPTION:Ages 1-5. Make a variety of Earth Day crafts. Walk-in.
URL:https://monroepl.org/event/earth-day-craftssmithfields-pre-k/
LOCATION:Smithfields Branch Library\, 5200 Milford Road\, East Stroudsburg\, PA\, 18302\, United States
CATEGORIES:Children's Program
END:VEVENT
BEGIN:VEVENT
DTSTART;TZID=America/New_York:20260422T100000
DTEND;TZID=America/New_York:20260422T110000
DTSTAMP:20260423T103012
CREATED:20260210T213051Z
LAST-MODIFIED:20260210T220534Z
UID:26828-1776852000-1776855600@monroepl.org
SUMMARY:Tiny Explorers Open Play (ages 1-3)
DESCRIPTION:Ages 1-3. Let your little ones explore\, build\, and make noise. Blocks\, trucks\, instruments\, and more! Chat with Lois Elick\, Community Health Nurse\, PA Department of Health. She will have information about outdoor safety and more. Hughes. Walk-in.
URL:https://monroepl.org/event/tiny-explorers-open-play-4/
LOCATION:Hughes Library\, 1002 North 9th Street\, Stroudsburg\, PA\, 18360\, United States
CATEGORIES:Children's Program
END:VEVENT
BEGIN:VEVENT
DTSTART;TZID=America/New_York:20260416T180000
DTEND;TZID=America/New_York:20260416T190000
DTSTAMP:20260423T103012
CREATED:20260211T183018Z
LAST-MODIFIED:20260211T183018Z
UID:26856-1776362400-1776366000@monroepl.org
SUMMARY:STEM Club: Titanic (grades K-5)
DESCRIPTION:Grades K-5. A variety of science activities. Hughes. Registration begins Mon\, Mar 30.  570-421-0800 x305.
URL:https://monroepl.org/event/stem-club-titanic-grades-k-5/
LOCATION:Hughes Library\, 1002 North 9th Street\, Stroudsburg\, PA\, 18360\, United States
CATEGORIES:Children's Program
END:VEVENT
BEGIN:VEVENT
DTSTART;TZID=America/New_York:20260409T100000
DTEND;TZID=America/New_York:20260409T110000
DTSTAMP:20260423T103012
CREATED:20260211T182027Z
LAST-MODIFIED:20260211T184420Z
UID:26847-1775728800-1775732400@monroepl.org
SUMMARY:Pre-K Crafts & Therapy Dog Visit: Spring Crafts (ages 3-5)
DESCRIPTION:Ages 3-5. Join us for fun as you create a variety of spring crafts. Some paint involved so dress accordingly. Plus\, enjoy a special visit from our therapy dogs! Hughes. Registration begins Mon\, Mar 23. 570-421-0800 x305.
URL:https://monroepl.org/event/pre-k-crafts-therapy-dog-visit-spring-crafts-ages-3-5/
LOCATION:Hughes Library\, 1002 North 9th Street\, Stroudsburg\, PA\, 18360\, United States
CATEGORIES:Children's Program
END:VEVENT
BEGIN:VEVENT
DTSTART;TZID=America/New_York:20260407T100000
DTEND;TZID=America/New_York:20260407T110000
DTSTAMP:20260423T103012
CREATED:20260210T215401Z
LAST-MODIFIED:20260210T220507Z
UID:26834-1775556000-1775559600@monroepl.org
SUMMARY:Special Storytime: C. Well Bunny Goes to School (ages 3-5)
DESCRIPTION:Ages 3-5. Meet puppet\, C. Well Bunny\, who will teach you about eye health & safety. Optional free vision screening. Presented by Sights for Hope. Hughes. Walk-in.
URL:https://monroepl.org/event/special-storytime-c-well-bunny-goes-to-school/
LOCATION:Hughes Library\, 1002 North 9th Street\, Stroudsburg\, PA\, 18360\, United States
CATEGORIES:Children's Program
END:VEVENT
BEGIN:VEVENT
DTSTART;TZID=America/New_York:20260326T163000
DTEND;TZID=America/New_York:20260326T174500
DTSTAMP:20260423T103012
CREATED:20260211T183359Z
LAST-MODIFIED:20260211T183359Z
UID:26860-1774542600-1774547100@monroepl.org
SUMMARY:Paws & Pages: Read to a Therapy Dog (ages 3-grade 5)
DESCRIPTION:Ages 3-Grade 5. Read to one of our therapy dogs or just stop by for hugs and pets! Bring your own book or choose one from the library. Make crafts while you wait. Walk-in.
URL:https://monroepl.org/event/paws-pages-read-to-a-therapy-dog-ages-3-grade-5/
LOCATION:Hughes Library\, 1002 North 9th Street\, Stroudsburg\, PA\, 18360\, United States
CATEGORIES:Children's Program
END:VEVENT
BEGIN:VEVENT
DTSTART;TZID=America/New_York:20260323T100000
DTEND;TZID=America/New_York:20260323T113000
DTSTAMP:20260423T103012
CREATED:20260210T212712Z
LAST-MODIFIED:20260210T220433Z
UID:26824-1774260000-1774265400@monroepl.org
SUMMARY:Rockin' Tots (ages 1-5)
DESCRIPTION:Ages 1-5. Join us for an interactive music & movement program. Hughes. Walk-in.
URL:https://monroepl.org/event/rockin-tots/
LOCATION:Hughes Library\, 1002 North 9th Street\, Stroudsburg\, PA\, 18360\, United States
CATEGORIES:Children's Program
END:VEVENT
BEGIN:VEVENT
DTSTART;TZID=America/New_York:20260319T180000
DTEND;TZID=America/New_York:20260319T190000
DTSTAMP:20260423T103012
CREATED:20260211T182832Z
LAST-MODIFIED:20260211T182832Z
UID:26854-1773943200-1773946800@monroepl.org
SUMMARY:STEM Club: STEM Kits + Visit from Safe Monroe (grades K-5)
DESCRIPTION:Grades K-5. Explore our STEM kits at your own pace. Safe Monroe will also have information about body safety (consent for hugs\, high fives\, etc.) Hughes. Registration begins Mon\, Mar 9. 570-421-0800 x305.
URL:https://monroepl.org/event/stem-club-stem-kits-visit-from-safe-monroe-grades-k-5/
LOCATION:Hughes Library\, 1002 North 9th Street\, Stroudsburg\, PA\, 18360\, United States
CATEGORIES:Children's Program
END:VEVENT
BEGIN:VEVENT
DTSTART;TZID=America/New_York:20260312T100000
DTEND;TZID=America/New_York:20260312T110000
DTSTAMP:20260423T103012
CREATED:20260211T181835Z
LAST-MODIFIED:20260211T184140Z
UID:26845-1773309600-1773313200@monroepl.org
SUMMARY:Pre-K Crafts & Therapy Dog Visit: Paint Party (ages 3-5)
DESCRIPTION:Ages 3-5. Your child will paint a ceramic piece and explore watercolors. Dress accordingly. Plus\, enjoy a special visit from our therapy dogs! Hughes. Registration begins Mon\, Feb 23. 570-421-0800 x305.
URL:https://monroepl.org/event/pre-k-crafts-therapy-dog-visit-paint-party-ages-3-5/
LOCATION:Hughes Library\, 1002 North 9th Street\, Stroudsburg\, PA\, 18360\, United States
CATEGORIES:Children's Program
END:VEVENT
BEGIN:VEVENT
DTSTART;TZID=America/New_York:20260304T100000
DTEND;TZID=America/New_York:20260304T110000
DTSTAMP:20260423T103012
CREATED:20260210T212841Z
LAST-MODIFIED:20260210T220403Z
UID:26826-1772618400-1772622000@monroepl.org
SUMMARY:Tiny Explorers Open Play (ages 1-3)
DESCRIPTION:Ages 1-3. Let your little ones explore\, build\, and make noise. Blocks\, trucks\, instruments\, and more! Hughes. Walk-in.
URL:https://monroepl.org/event/tiny-explorers-open-play-3/
LOCATION:Hughes Library\, 1002 North 9th Street\, Stroudsburg\, PA\, 18360\, United States
CATEGORIES:Children's Program
END:VEVENT
BEGIN:VEVENT
DTSTART;TZID=America/New_York:20260226T180000
DTEND;TZID=America/New_York:20260226T190000
DTSTAMP:20260423T103012
CREATED:20260112T190820Z
LAST-MODIFIED:20260112T192030Z
UID:26571-1772128800-1772132400@monroepl.org
SUMMARY:STEM Club: Super Heroes (Grades K-5)
DESCRIPTION:Grades K-5. A variety of science activities about superheroes. Registration begins Monday\, February 9. 570-421-0800 x305.
URL:https://monroepl.org/event/stem-club-super-heroes/
LOCATION:Hughes Library\, 1002 North 9th Street\, Stroudsburg\, PA\, 18360\, United States
CATEGORIES:Children's Program
END:VEVENT
BEGIN:VEVENT
DTSTART;TZID=America/New_York:20260218T100000
DTEND;TZID=America/New_York:20260218T110000
DTSTAMP:20260423T103012
CREATED:20260112T185113Z
LAST-MODIFIED:20260112T192805Z
UID:26567-1771408800-1771412400@monroepl.org
SUMMARY:Tiny Explorers Open Play (Ages 1-3)
DESCRIPTION:Ages 1-3. Let your little one explore\, build\, and make noise! Blocks\, trucks\, instruments\, and other fun toys. Walk-in.
URL:https://monroepl.org/event/tiny-explorers-open-play-2/
LOCATION:Hughes Library\, 1002 North 9th Street\, Stroudsburg\, PA\, 18360\, United States
CATEGORIES:Children's Program
END:VEVENT
BEGIN:VEVENT
DTSTART;TZID=America/New_York:20260212T100000
DTEND;TZID=America/New_York:20260212T110000
DTSTAMP:20260423T103012
CREATED:20260112T184933Z
LAST-MODIFIED:20260210T220244Z
UID:26565-1770890400-1770894000@monroepl.org
SUMMARY:Pre-K Crafts: Valentine’s Day & Therapy Dog Visit (Ages 3-5)
DESCRIPTION:Ages 3-5. Join us for fun as you create a variety of heartwarming Valentine’s Day crafts. Plus\, enjoy a special visit from our therapy dogs for extra smiles & hugs! Registration begins Monday\, January 26. 570-421-0800 x305.
URL:https://monroepl.org/event/pre-crafts-valentines-day-therapy-dog-visit/
LOCATION:Hughes Library\, 1002 North 9th Street\, Stroudsburg\, PA\, 18360\, United States
CATEGORIES:Children's Program
END:VEVENT
BEGIN:VEVENT
DTSTART;TZID=America/New_York:20260129T173000
DTEND;TZID=America/New_York:20260129T173000
DTSTAMP:20260423T103012
CREATED:20260112T190701Z
LAST-MODIFIED:20260112T190701Z
UID:26569-1769707800-1769707800@monroepl.org
SUMMARY:LEGO Club (Grade K-5)
DESCRIPTION:Grades K-5. Build with LEGO’s at your own pace. All materials provided. Please do not bring your own LEGO’s or minifigures. Registration begins Monday\, January 12. 570-421-0800 x305.
URL:https://monroepl.org/event/lego-club-grade-k-5/
LOCATION:Hughes Library\, 1002 North 9th Street\, Stroudsburg\, PA\, 18360\, United States
CATEGORIES:Children's Program
END:VEVENT
END:VCALENDAR