BEGIN:VCALENDAR
VERSION:2.0
PRODID:-//Eastern Monroe Public Library - ECPv6.15.20//NONSGML v1.0//EN
CALSCALE:GREGORIAN
METHOD:PUBLISH
X-WR-CALNAME:Eastern Monroe Public Library
X-ORIGINAL-URL:https://monroepl.org
X-WR-CALDESC:Events for Eastern Monroe Public Library
REFRESH-INTERVAL;VALUE=DURATION:PT1H
X-Robots-Tag:noindex
X-PUBLISHED-TTL:PT1H
BEGIN:VTIMEZONE
TZID:America/New_York
BEGIN:DAYLIGHT
TZOFFSETFROM:-0500
TZOFFSETTO:-0400
TZNAME:EDT
DTSTART:20250309T070000
END:DAYLIGHT
BEGIN:STANDARD
TZOFFSETFROM:-0400
TZOFFSETTO:-0500
TZNAME:EST
DTSTART:20251102T060000
END:STANDARD
BEGIN:DAYLIGHT
TZOFFSETFROM:-0500
TZOFFSETTO:-0400
TZNAME:EDT
DTSTART:20260308T070000
END:DAYLIGHT
BEGIN:STANDARD
TZOFFSETFROM:-0400
TZOFFSETTO:-0500
TZNAME:EST
DTSTART:20261101T060000
END:STANDARD
BEGIN:DAYLIGHT
TZOFFSETFROM:-0500
TZOFFSETTO:-0400
TZNAME:EDT
DTSTART:20270314T070000
END:DAYLIGHT
BEGIN:STANDARD
TZOFFSETFROM:-0400
TZOFFSETTO:-0500
TZNAME:EST
DTSTART:20271107T060000
END:STANDARD
END:VTIMEZONE
BEGIN:VEVENT
DTSTART;TZID=America/New_York:20260219T180000
DTEND;TZID=America/New_York:20260219T190000
DTSTAMP:20260423T165801
CREATED:20260128T144233Z
LAST-MODIFIED:20260128T144233Z
UID:26685-1771524000-1771527600@monroepl.org
SUMMARY:Kaleidoscope Book Club
DESCRIPTION:Kaleidoscope Book Club\nThursday\, February 19th\, 6:00pm — Pullen Room/Zoom \nNew book club alert! February’s Theme: Black Love\, Legacies\, & Futures. A choose-your-own-read adult book club on third Thursdays celebrating LGBTQ+ authors\, characters\, and stories with a different suggested theme each month. For February\, celebrate Black History Month by reading a fiction or nonfiction book by a Black LGBTQ+ author or featuring Black LGBTQ+ characters\, exploring love\, history\, identity\, resistance\, or Black queer futures. Choose any title that fits the theme\, whether from our suggested list online or your own pick. All are welcome—LGBTQ+ readers\, allies\, and the curious. Questions or want the Zoom link? Call 570-421-0800 ext. 317 or email programming@monroepl.org. For additional theme details and suggested reads\, visit monroepl.org/kaleidoscope-book-club.
URL:https://monroepl.org/event/kaleidoscope-book-club-2/
LOCATION:Hughes Library\, 1002 North 9th Street\, Stroudsburg\, PA\, 18360\, United States
CATEGORIES:Book Club
END:VEVENT
END:VCALENDAR