BEGIN:VCALENDAR
VERSION:2.0
PRODID:-//Eastern Monroe Public Library - ECPv6.15.20//NONSGML v1.0//EN
CALSCALE:GREGORIAN
METHOD:PUBLISH
X-WR-CALNAME:Eastern Monroe Public Library
X-ORIGINAL-URL:https://monroepl.org
X-WR-CALDESC:Events for Eastern Monroe Public Library
REFRESH-INTERVAL;VALUE=DURATION:PT1H
X-Robots-Tag:noindex
X-PUBLISHED-TTL:PT1H
BEGIN:VTIMEZONE
TZID:America/New_York
BEGIN:DAYLIGHT
TZOFFSETFROM:-0500
TZOFFSETTO:-0400
TZNAME:EDT
DTSTART:20250309T070000
END:DAYLIGHT
BEGIN:STANDARD
TZOFFSETFROM:-0400
TZOFFSETTO:-0500
TZNAME:EST
DTSTART:20251102T060000
END:STANDARD
BEGIN:DAYLIGHT
TZOFFSETFROM:-0500
TZOFFSETTO:-0400
TZNAME:EDT
DTSTART:20260308T070000
END:DAYLIGHT
BEGIN:STANDARD
TZOFFSETFROM:-0400
TZOFFSETTO:-0500
TZNAME:EST
DTSTART:20261101T060000
END:STANDARD
BEGIN:DAYLIGHT
TZOFFSETFROM:-0500
TZOFFSETTO:-0400
TZNAME:EDT
DTSTART:20270314T070000
END:DAYLIGHT
BEGIN:STANDARD
TZOFFSETFROM:-0400
TZOFFSETTO:-0500
TZNAME:EST
DTSTART:20271107T060000
END:STANDARD
END:VTIMEZONE
BEGIN:VEVENT
DTSTART;TZID=America/New_York:20260324T133000
DTEND;TZID=America/New_York:20260324T160000
DTSTAMP:20260423T140150
CREATED:20260219T181550Z
LAST-MODIFIED:20260219T181550Z
UID:26983-1774359000-1774368000@monroepl.org
SUMMARY:Word Play Social (drop-in): Scrabble\, Bananagrams\, Word Puzzles\, & More! 
DESCRIPTION:Word Play Social: Scrabble\, Bananagrams\, Word Puzzles\, & More!  \nTuesday\, March 24th\, 1:30pm- 4:00pm (drop in) — Pullen Room \nUnwind\, stretch your brain\, and enjoy a relaxed afternoon of word-friendly fun! Come solo\, invite a friend\, or meet someone new—everyone is welcome. Try our selection of Scrabble\, Bananagrams\, and other word-themed games\, or bring your own favorites. And whether you prefer a quieter puzzle moment or simply don’t want to play a board game solo\, we’ll have plenty of crosswords and word search print outs just in case. This is a self-guided\, drop-in program—stay the whole time or stop by whenever you like. No registration required.
URL:https://monroepl.org/event/word-play-social-drop-in-scrabble-bananagrams-word-puzzles-more/
LOCATION:Hughes Library\, 1002 North 9th Street\, Stroudsburg\, PA\, 18360\, United States
CATEGORIES:Board Games
END:VEVENT
END:VCALENDAR