BEGIN:VCALENDAR
VERSION:2.0
PRODID:-//Eastern Monroe Public Library - ECPv6.15.20//NONSGML v1.0//EN
CALSCALE:GREGORIAN
METHOD:PUBLISH
X-WR-CALNAME:Eastern Monroe Public Library
X-ORIGINAL-URL:https://monroepl.org
X-WR-CALDESC:Events for Eastern Monroe Public Library
REFRESH-INTERVAL;VALUE=DURATION:PT1H
X-Robots-Tag:noindex
X-PUBLISHED-TTL:PT1H
BEGIN:VTIMEZONE
TZID:America/New_York
BEGIN:DAYLIGHT
TZOFFSETFROM:-0500
TZOFFSETTO:-0400
TZNAME:EDT
DTSTART:20250309T070000
END:DAYLIGHT
BEGIN:STANDARD
TZOFFSETFROM:-0400
TZOFFSETTO:-0500
TZNAME:EST
DTSTART:20251102T060000
END:STANDARD
BEGIN:DAYLIGHT
TZOFFSETFROM:-0500
TZOFFSETTO:-0400
TZNAME:EDT
DTSTART:20260308T070000
END:DAYLIGHT
BEGIN:STANDARD
TZOFFSETFROM:-0400
TZOFFSETTO:-0500
TZNAME:EST
DTSTART:20261101T060000
END:STANDARD
BEGIN:DAYLIGHT
TZOFFSETFROM:-0500
TZOFFSETTO:-0400
TZNAME:EDT
DTSTART:20270314T070000
END:DAYLIGHT
BEGIN:STANDARD
TZOFFSETFROM:-0400
TZOFFSETTO:-0500
TZNAME:EST
DTSTART:20271107T060000
END:STANDARD
END:VTIMEZONE
BEGIN:VEVENT
DTSTART;TZID=America/New_York:20260506T173000
DTEND;TZID=America/New_York:20260506T183000
DTSTAMP:20260423T121516
CREATED:20260219T211411Z
LAST-MODIFIED:20260219T211411Z
UID:27035-1778088600-1778092200@monroepl.org
SUMMARY:Teens Create: Potato Prom (grades 6-12)
DESCRIPTION:Teens Create: Potato Prom (grades 6-12) Wednesday\, May 6\, 5:30-6:30pm. Spiff up your spuds in formal duds then show off your gowned & tuxedo-ed tubers under the lights for a memorable evening.  Registration begins Monday\, Apr. 13. Call Youth Services at 570-421-0800 x 305.
URL:https://monroepl.org/event/teens-create-potato-prom-grades-6-12/
LOCATION:Hughes Library\, 1002 North 9th Street\, Stroudsburg\, PA\, 18360\, United States
END:VEVENT
END:VCALENDAR