BEGIN:VCALENDAR
VERSION:2.0
PRODID:-//Eastern Monroe Public Library - ECPv6.15.20//NONSGML v1.0//EN
CALSCALE:GREGORIAN
METHOD:PUBLISH
X-ORIGINAL-URL:https://monroepl.org
X-WR-CALDESC:Events for Eastern Monroe Public Library
REFRESH-INTERVAL;VALUE=DURATION:PT1H
X-Robots-Tag:noindex
X-PUBLISHED-TTL:PT1H
BEGIN:VTIMEZONE
TZID:America/New_York
BEGIN:DAYLIGHT
TZOFFSETFROM:-0500
TZOFFSETTO:-0400
TZNAME:EDT
DTSTART:20250309T070000
END:DAYLIGHT
BEGIN:STANDARD
TZOFFSETFROM:-0400
TZOFFSETTO:-0500
TZNAME:EST
DTSTART:20251102T060000
END:STANDARD
BEGIN:DAYLIGHT
TZOFFSETFROM:-0500
TZOFFSETTO:-0400
TZNAME:EDT
DTSTART:20260308T070000
END:DAYLIGHT
BEGIN:STANDARD
TZOFFSETFROM:-0400
TZOFFSETTO:-0500
TZNAME:EST
DTSTART:20261101T060000
END:STANDARD
BEGIN:DAYLIGHT
TZOFFSETFROM:-0500
TZOFFSETTO:-0400
TZNAME:EDT
DTSTART:20270314T070000
END:DAYLIGHT
BEGIN:STANDARD
TZOFFSETFROM:-0400
TZOFFSETTO:-0500
TZNAME:EST
DTSTART:20271107T060000
END:STANDARD
END:VTIMEZONE
BEGIN:VEVENT
DTSTART;TZID=America/New_York:20260428T133000
DTEND;TZID=America/New_York:20260428T160000
DTSTAMP:20260423T105012
CREATED:20260326T133538Z
LAST-MODIFIED:20260330T162053Z
UID:27556-1777383000-1777392000@monroepl.org
SUMMARY:Word Play Social: Scrabble\, Bananagrams\, Word Puzzles\, & More!
DESCRIPTION:Unwind\, stretch your brain\, and enjoy a relaxed afternoon of word-friendly fun! Come solo\, invite a friend\, or meet someone new—everyone is welcome. Try our selection of Scrabble\, Bananagrams\, and other word-themed games\, or bring your own favorites. And whether you prefer a quieter puzzle moment or simply don’t want to play a board game solo\, we’ll have plenty of crosswords and word search print outs just in case. This is a self-guided\, drop-in program—stay the whole time or stop by whenever you like. No registration required.  \n 
URL:https://monroepl.org/event/word-play-social-scrabble-bananagrams-word-puzzles-more-2/
LOCATION:Hughes Library\, 1002 North 9th Street\, Stroudsburg\, PA\, 18360\, United States
CATEGORIES:Board Games
END:VEVENT
BEGIN:VEVENT
DTSTART;TZID=America/New_York:20260428T173000
DTEND;TZID=America/New_York:20260428T173000
DTSTAMP:20260423T105012
CREATED:20260326T134417Z
LAST-MODIFIED:20260326T134417Z
UID:27560-1777397400-1777397400@monroepl.org
SUMMARY:Evening Chair Zumba® with Danny Grae
DESCRIPTION:Discover the joy of Chair Zumba®\, a seated adaptation of the popular Zumba® dance fitness program. Enjoy an upper body workout perfect for all fitness levels\, plus it’s low impact!  Don’t worry – you’ll still break a sweat! Adaptable for wheelchair users and most fitness abilities. Now happening monthly. Registration requested; walk-ins are welcome. Call 570-421-0800 ext. 317.
URL:https://monroepl.org/event/evening-chair-zumba-with-danny-grae-3/
LOCATION:Hughes Library\, 1002 North 9th Street\, Stroudsburg\, PA\, 18360\, United States
CATEGORIES:Chair Yoga
END:VEVENT
BEGIN:VEVENT
DTSTART;TZID=America/New_York:20260428T173000
DTEND;TZID=America/New_York:20260428T190000
DTSTAMP:20260423T105012
CREATED:20260219T211323Z
LAST-MODIFIED:20260219T211323Z
UID:27033-1777397400-1777402800@monroepl.org
SUMMARY:Teen DND: The Forests of Time Series (grades 6-12)
DESCRIPTION:Teen DND: The Forests of Time Series (grades 6-12) Tuesday\, April 28\, 5:30-7:00pm. The Campaign continues! New and experienced players welcome? Dungeonmaster Kelsey will guide you through The Forests of Time! Registration begins Monday\, Apr. 6. Call Youth Services at 570-421-0800 x 305.
URL:https://monroepl.org/event/teen-dnd-the-forests-of-time-series-grades-6-12-2/
LOCATION:PA
END:VEVENT
END:VCALENDAR