BEGIN:VCALENDAR
VERSION:2.0
PRODID:-//Eastern Monroe Public Library - ECPv6.15.20//NONSGML v1.0//EN
CALSCALE:GREGORIAN
METHOD:PUBLISH
X-ORIGINAL-URL:https://monroepl.org
X-WR-CALDESC:Events for Eastern Monroe Public Library
REFRESH-INTERVAL;VALUE=DURATION:PT1H
X-Robots-Tag:noindex
X-PUBLISHED-TTL:PT1H
BEGIN:VTIMEZONE
TZID:America/New_York
BEGIN:DAYLIGHT
TZOFFSETFROM:-0500
TZOFFSETTO:-0400
TZNAME:EDT
DTSTART:20250309T070000
END:DAYLIGHT
BEGIN:STANDARD
TZOFFSETFROM:-0400
TZOFFSETTO:-0500
TZNAME:EST
DTSTART:20251102T060000
END:STANDARD
BEGIN:DAYLIGHT
TZOFFSETFROM:-0500
TZOFFSETTO:-0400
TZNAME:EDT
DTSTART:20260308T070000
END:DAYLIGHT
BEGIN:STANDARD
TZOFFSETFROM:-0400
TZOFFSETTO:-0500
TZNAME:EST
DTSTART:20261101T060000
END:STANDARD
BEGIN:DAYLIGHT
TZOFFSETFROM:-0500
TZOFFSETTO:-0400
TZNAME:EDT
DTSTART:20270314T070000
END:DAYLIGHT
BEGIN:STANDARD
TZOFFSETFROM:-0400
TZOFFSETTO:-0500
TZNAME:EST
DTSTART:20271107T060000
END:STANDARD
END:VTIMEZONE
BEGIN:VEVENT
DTSTART;TZID=America/New_York:20260414T090000
DTEND;TZID=America/New_York:20260414T120000
DTSTAMP:20260423T105032
CREATED:20260323T231517Z
LAST-MODIFIED:20260323T231517Z
UID:27449-1776157200-1776168000@monroepl.org
SUMMARY:Stress Management Health Booth
DESCRIPTION:In recognition of National Stress Awareness Month\, this booth offers a space to explore everyday approaches to managing stress and building balance. A PA Department of Health representative will be available to discuss topics such as creating calming routines or noticing stress triggers. Everyone is welcome to attend. Drop in anytime—no appointment or registration needed.
URL:https://monroepl.org/event/stress-management-health-booth/
LOCATION:Hughes Library\, 1002 North 9th Street\, Stroudsburg\, PA\, 18360\, United States
CATEGORIES:Information Table
END:VEVENT
END:VCALENDAR