BEGIN:VCALENDAR
VERSION:2.0
PRODID:-//Eastern Monroe Public Library - ECPv6.15.20//NONSGML v1.0//EN
CALSCALE:GREGORIAN
METHOD:PUBLISH
X-ORIGINAL-URL:https://monroepl.org
X-WR-CALDESC:Events for Eastern Monroe Public Library
REFRESH-INTERVAL;VALUE=DURATION:PT1H
X-Robots-Tag:noindex
X-PUBLISHED-TTL:PT1H
BEGIN:VTIMEZONE
TZID:America/New_York
BEGIN:DAYLIGHT
TZOFFSETFROM:-0500
TZOFFSETTO:-0400
TZNAME:EDT
DTSTART:20250309T070000
END:DAYLIGHT
BEGIN:STANDARD
TZOFFSETFROM:-0400
TZOFFSETTO:-0500
TZNAME:EST
DTSTART:20251102T060000
END:STANDARD
BEGIN:DAYLIGHT
TZOFFSETFROM:-0500
TZOFFSETTO:-0400
TZNAME:EDT
DTSTART:20260308T070000
END:DAYLIGHT
BEGIN:STANDARD
TZOFFSETFROM:-0400
TZOFFSETTO:-0500
TZNAME:EST
DTSTART:20261101T060000
END:STANDARD
BEGIN:DAYLIGHT
TZOFFSETFROM:-0500
TZOFFSETTO:-0400
TZNAME:EDT
DTSTART:20270314T070000
END:DAYLIGHT
BEGIN:STANDARD
TZOFFSETFROM:-0400
TZOFFSETTO:-0500
TZNAME:EST
DTSTART:20271107T060000
END:STANDARD
END:VTIMEZONE
BEGIN:VEVENT
DTSTART;TZID=America/New_York:20260409T100000
DTEND;TZID=America/New_York:20260409T110000
DTSTAMP:20260423T104121
CREATED:20260211T182027Z
LAST-MODIFIED:20260211T184420Z
UID:26847-1775728800-1775732400@monroepl.org
SUMMARY:Pre-K Crafts & Therapy Dog Visit: Spring Crafts (ages 3-5)
DESCRIPTION:Ages 3-5. Join us for fun as you create a variety of spring crafts. Some paint involved so dress accordingly. Plus\, enjoy a special visit from our therapy dogs! Hughes. Registration begins Mon\, Mar 23. 570-421-0800 x305.
URL:https://monroepl.org/event/pre-k-crafts-therapy-dog-visit-spring-crafts-ages-3-5/
LOCATION:Hughes Library\, 1002 North 9th Street\, Stroudsburg\, PA\, 18360\, United States
CATEGORIES:Children's Program
END:VEVENT
BEGIN:VEVENT
DTSTART;TZID=America/New_York:20260409T140000
DTEND;TZID=America/New_York:20260409T140000
DTSTAMP:20260423T104121
CREATED:20260326T140820Z
LAST-MODIFIED:20260330T144935Z
UID:27566-1775743200-1775743200@monroepl.org
SUMMARY:Computer Confidence Class: A Beginner’s Guide to Computers & the Internet
DESCRIPTION:New to computers—or feeling out of practice? Build confidence with the essential skills you need to navigate today’s digital world. In this hands-on class\, you’ll learn how to use a computer\, browse the internet\, and get familiar with basic computer and internet tasks. Perfect for true beginners or anyone wanting a friendly refresher. Laptops and mice are provided for practice. Registration required – space is limited. To register\, call 570-421-0800 ext. 317 or visit the Hughes Library 2nd-floor Reference Desk.
URL:https://monroepl.org/event/computer-confidence-class-a-beginners-guide-to-computers-the-internet-2/
LOCATION:Hughes Library\, 1002 North 9th Street\, Stroudsburg\, PA\, 18360\, United States
CATEGORIES:Computer Class
END:VEVENT
BEGIN:VEVENT
DTSTART;TZID=America/New_York:20260409T200000
DTEND;TZID=America/New_York:20260409T210000
DTSTAMP:20260423T104121
CREATED:20251115T145347Z
LAST-MODIFIED:20260409T131429Z
UID:25879-1775764800-1775768400@monroepl.org
SUMMARY:Smithfields Omnivorous Readers Book Club (ORB) via Zoom
DESCRIPTION:Our Smithfields Library Branch’s Omnivorous Readers Book Club (ORB) provides a unique and fun book club experience. Rather than everyone reading the same book\, each member chooses your OWN selection related to the month’s theme (which is chosen by the previous meeting’s attending members)! Sharing what we all read is an excellent way to find out about books you may be interested in reading on your own! The book theme for this month is: Green Cover. \nAn email invitation with the Zoom link will be sent out before the meeting. If you are not currently a member of the club but would like to join us\, call 570-223-1881 or send an email to smf@monroepl.org and you will be sent some information. New members are always warmly welcomed!
URL:https://monroepl.org/event/smithfields-omnivorous-readers-book-club-via-zoom-4/
LOCATION:Online\, United States
CATEGORIES:Book Club
END:VEVENT
END:VCALENDAR