BEGIN:VCALENDAR
VERSION:2.0
PRODID:-//Eastern Monroe Public Library - ECPv6.15.20//NONSGML v1.0//EN
CALSCALE:GREGORIAN
METHOD:PUBLISH
X-ORIGINAL-URL:https://monroepl.org
X-WR-CALDESC:Events for Eastern Monroe Public Library
REFRESH-INTERVAL;VALUE=DURATION:PT1H
X-Robots-Tag:noindex
X-PUBLISHED-TTL:PT1H
BEGIN:VTIMEZONE
TZID:America/New_York
BEGIN:DAYLIGHT
TZOFFSETFROM:-0500
TZOFFSETTO:-0400
TZNAME:EDT
DTSTART:20250309T070000
END:DAYLIGHT
BEGIN:STANDARD
TZOFFSETFROM:-0400
TZOFFSETTO:-0500
TZNAME:EST
DTSTART:20251102T060000
END:STANDARD
BEGIN:DAYLIGHT
TZOFFSETFROM:-0500
TZOFFSETTO:-0400
TZNAME:EDT
DTSTART:20260308T070000
END:DAYLIGHT
BEGIN:STANDARD
TZOFFSETFROM:-0400
TZOFFSETTO:-0500
TZNAME:EST
DTSTART:20261101T060000
END:STANDARD
BEGIN:DAYLIGHT
TZOFFSETFROM:-0500
TZOFFSETTO:-0400
TZNAME:EDT
DTSTART:20270314T070000
END:DAYLIGHT
BEGIN:STANDARD
TZOFFSETFROM:-0400
TZOFFSETTO:-0500
TZNAME:EST
DTSTART:20271107T060000
END:STANDARD
END:VTIMEZONE
BEGIN:VEVENT
DTSTART;TZID=America/New_York:20260329T140000
DTEND;TZID=America/New_York:20260329T160000
DTSTAMP:20260423T121612
CREATED:20260219T182130Z
LAST-MODIFIED:20260326T130530Z
UID:26991-1774792800-1774800000@monroepl.org
SUMMARY:Free Sunday Film: Song Sung Blue
DESCRIPTION:SAVE THE DATE: Free BONUS Sunday Film in March “Song Sung Blue”\nSunday\, March 29th\, 2pm – Community Room \nBased on the incredible true story\, Mike and Claire are two down-on-their-luck musicians who prove that it’s never too late to find love and follow your dreams. They forma joyous Neil Diamond tribute band called Lightning and Thunder\, rising from humble garage to dive bar gigs to unexpected hometown stardom. When tragedy strikes\, their love for each other and passion for music give them the strength to overcome hardships\, rediscover hope\, and inspire everyone around them. Directed by Craig Brewer\, this film stars Hugh Jackman and Kate Hudson. \nRated PG-13 for thematic material\, some strong language\, some sexual material and brief drug use.
URL:https://monroepl.org/event/free-bonus-sunday-film-in-march/
LOCATION:Hughes Library\, 1002 North 9th Street\, Stroudsburg\, PA\, 18360\, United States
CATEGORIES:Free Film
END:VEVENT
END:VCALENDAR