BEGIN:VCALENDAR
VERSION:2.0
PRODID:-//Eastern Monroe Public Library - ECPv6.15.20//NONSGML v1.0//EN
CALSCALE:GREGORIAN
METHOD:PUBLISH
X-ORIGINAL-URL:https://monroepl.org
X-WR-CALDESC:Events for Eastern Monroe Public Library
REFRESH-INTERVAL;VALUE=DURATION:PT1H
X-Robots-Tag:noindex
X-PUBLISHED-TTL:PT1H
BEGIN:VTIMEZONE
TZID:America/New_York
BEGIN:DAYLIGHT
TZOFFSETFROM:-0500
TZOFFSETTO:-0400
TZNAME:EDT
DTSTART:20250309T070000
END:DAYLIGHT
BEGIN:STANDARD
TZOFFSETFROM:-0400
TZOFFSETTO:-0500
TZNAME:EST
DTSTART:20251102T060000
END:STANDARD
BEGIN:DAYLIGHT
TZOFFSETFROM:-0500
TZOFFSETTO:-0400
TZNAME:EDT
DTSTART:20260308T070000
END:DAYLIGHT
BEGIN:STANDARD
TZOFFSETFROM:-0400
TZOFFSETTO:-0500
TZNAME:EST
DTSTART:20261101T060000
END:STANDARD
BEGIN:DAYLIGHT
TZOFFSETFROM:-0500
TZOFFSETTO:-0400
TZNAME:EDT
DTSTART:20270314T070000
END:DAYLIGHT
BEGIN:STANDARD
TZOFFSETFROM:-0400
TZOFFSETTO:-0500
TZNAME:EST
DTSTART:20271107T060000
END:STANDARD
END:VTIMEZONE
BEGIN:VEVENT
DTSTART;TZID=America/New_York:20260325T093000
DTEND;TZID=America/New_York:20260325T143000
DTSTAMP:20260423T121610
CREATED:20260219T182007Z
LAST-MODIFIED:20260219T182007Z
UID:26987-1774431000-1774449000@monroepl.org
SUMMARY:Red Cross Blood Drive
DESCRIPTION:Red Cross Blood Drive\nWednesday\, March 25th\,  9:30am-2:30pm — Community Room \nYour lifesaving donation is needed now! The American Red Cross is facing a growing risk of a blood shortage following the holiday season\, with blood being used faster than it’s donated. Join us at Hughes Library for an American Red Cross blood drive\, accepting Whole Blood and Power Red donations. Seasonal declines have created an urgent need\, especially for type O blood. Your donation can help patients facing cancer\, trauma\, surgery\, and chronic illnesses. Registration is strongly recommended—call 1-800-RED CROSS or visit redcross.org/rapidpass.
URL:https://monroepl.org/event/red-cross-blood-drive-3/
LOCATION:PA
CATEGORIES:Red Cross Blood Drive
END:VEVENT
BEGIN:VEVENT
DTSTART;TZID=America/New_York:20260325T123000
DTEND;TZID=America/New_York:20260325T150000
DTSTAMP:20260423T121610
CREATED:20260219T183704Z
LAST-MODIFIED:20260219T183704Z
UID:27021-1774441800-1774450800@monroepl.org
SUMMARY:Color Yourself Calm: Adult Coloring
DESCRIPTION:Color Yourself Calm: Adult Coloring (Wednesdays) \nEvery Wednesday\, 12:30pm-3:00pm (drop-in) — Pullen Room \nJoin us for Color Yourself Calm\, a relaxing\, self-guided coloring session for adults of all abilities. All materials are provided—including colored pencils\, crayons\, markers\, and a variety of coloring sheets—though you’re welcome to bring your own if you prefer. Drop in anytime during the session and stay for as long as you like. Settle in for peaceful solitude or connect with others in a calm\, creative atmosphere. Unwind\, recharge\, and enjoy a soothing break in your day!
URL:https://monroepl.org/event/color-yourself-calm-adult-coloring-16/
LOCATION:Hughes Library\, 1002 North 9th Street\, Stroudsburg\, PA\, 18360\, United States
END:VEVENT
BEGIN:VEVENT
DTSTART;TZID=America/New_York:20260325T160000
DTEND;TZID=America/New_York:20260325T200000
DTSTAMP:20260423T121610
CREATED:20260219T182050Z
LAST-MODIFIED:20260219T182050Z
UID:26989-1774454400-1774468800@monroepl.org
SUMMARY:Library Board Game Night (for adults!) 
DESCRIPTION:Library Board Game Night (for adults!) \nWednesday\, March 25th\, 4:00pm – 8:00pm — Eisemann Room \nJoin us for a relaxed evening of tabletop fun! Meet new people\, play your favorite games\, or discover something new from our collection. Drop in anytime between 4–8 PM. Open to all—intended for adults\, but ages 14+ are welcome. No experience needed. (Usually held on fourth Wednesday evenings unless otherwise noted.)
URL:https://monroepl.org/event/library-board-game-night-for-adults/
LOCATION:Hughes Library\, 1002 North 9th Street\, Stroudsburg\, PA\, 18360\, United States
CATEGORIES:Board Games
END:VEVENT
END:VCALENDAR