BEGIN:VCALENDAR
VERSION:2.0
PRODID:-//Eastern Monroe Public Library - ECPv6.15.20//NONSGML v1.0//EN
CALSCALE:GREGORIAN
METHOD:PUBLISH
X-ORIGINAL-URL:https://monroepl.org
X-WR-CALDESC:Events for Eastern Monroe Public Library
REFRESH-INTERVAL;VALUE=DURATION:PT1H
X-Robots-Tag:noindex
X-PUBLISHED-TTL:PT1H
BEGIN:VTIMEZONE
TZID:America/New_York
BEGIN:DAYLIGHT
TZOFFSETFROM:-0500
TZOFFSETTO:-0400
TZNAME:EDT
DTSTART:20250309T070000
END:DAYLIGHT
BEGIN:STANDARD
TZOFFSETFROM:-0400
TZOFFSETTO:-0500
TZNAME:EST
DTSTART:20251102T060000
END:STANDARD
BEGIN:DAYLIGHT
TZOFFSETFROM:-0500
TZOFFSETTO:-0400
TZNAME:EDT
DTSTART:20260308T070000
END:DAYLIGHT
BEGIN:STANDARD
TZOFFSETFROM:-0400
TZOFFSETTO:-0500
TZNAME:EST
DTSTART:20261101T060000
END:STANDARD
BEGIN:DAYLIGHT
TZOFFSETFROM:-0500
TZOFFSETTO:-0400
TZNAME:EDT
DTSTART:20270314T070000
END:DAYLIGHT
BEGIN:STANDARD
TZOFFSETFROM:-0400
TZOFFSETTO:-0500
TZNAME:EST
DTSTART:20271107T060000
END:STANDARD
END:VTIMEZONE
BEGIN:VEVENT
DTSTART;TZID=America/New_York:20260315T140000
DTEND;TZID=America/New_York:20260315T150000
DTSTAMP:20260423T121715
CREATED:20260219T181009Z
LAST-MODIFIED:20260219T181009Z
UID:26975-1773583200-1773586800@monroepl.org
SUMMARY:History Talk: Elk v. Wilkins and the Fight for Native American Citizenship
DESCRIPTION:History Talk: Elk v. Wilkins and the Fight for Native American Citizenship\nSunday\, March 15th\, 2pm – 2nd Floor of Hughes Library \nJoin the library’s local history and genealogy librarian Jim for History Talk: Elk v. Wilkins (1884) and the Fight for Native American Citizenship. This program examines the landmark U.S. Supreme Court decision and its significance for the citizenship and voting rights of Native Americans. A program that is part of America250 – a bipartisan initiative to commemorate the 250th anniversary of the United States – which invites us to explore the founding and history of the United States. Registration requested. Call 570-421-0800 ext. 317.
URL:https://monroepl.org/event/history-talk-elk-v-wilkins-and-the-fight-for-native-american-citizenship/
LOCATION:Hughes Library\, 1002 North 9th Street\, Stroudsburg\, PA\, 18360\, United States
END:VEVENT
END:VCALENDAR