BEGIN:VCALENDAR
VERSION:2.0
PRODID:-//Eastern Monroe Public Library - ECPv6.15.20//NONSGML v1.0//EN
CALSCALE:GREGORIAN
METHOD:PUBLISH
X-WR-CALNAME:Eastern Monroe Public Library
X-ORIGINAL-URL:https://monroepl.org
X-WR-CALDESC:Events for Eastern Monroe Public Library
REFRESH-INTERVAL;VALUE=DURATION:PT1H
X-Robots-Tag:noindex
X-PUBLISHED-TTL:PT1H
BEGIN:VTIMEZONE
TZID:America/New_York
BEGIN:DAYLIGHT
TZOFFSETFROM:-0500
TZOFFSETTO:-0400
TZNAME:EDT
DTSTART:20250309T070000
END:DAYLIGHT
BEGIN:STANDARD
TZOFFSETFROM:-0400
TZOFFSETTO:-0500
TZNAME:EST
DTSTART:20251102T060000
END:STANDARD
BEGIN:DAYLIGHT
TZOFFSETFROM:-0500
TZOFFSETTO:-0400
TZNAME:EDT
DTSTART:20260308T070000
END:DAYLIGHT
BEGIN:STANDARD
TZOFFSETFROM:-0400
TZOFFSETTO:-0500
TZNAME:EST
DTSTART:20261101T060000
END:STANDARD
BEGIN:DAYLIGHT
TZOFFSETFROM:-0500
TZOFFSETTO:-0400
TZNAME:EDT
DTSTART:20270314T070000
END:DAYLIGHT
BEGIN:STANDARD
TZOFFSETFROM:-0400
TZOFFSETTO:-0500
TZNAME:EST
DTSTART:20271107T060000
END:STANDARD
END:VTIMEZONE
BEGIN:VEVENT
DTSTART;TZID=America/New_York:20260312T100000
DTEND;TZID=America/New_York:20260312T110000
DTSTAMP:20260423T121535
CREATED:20260211T181835Z
LAST-MODIFIED:20260211T184140Z
UID:26845-1773309600-1773313200@monroepl.org
SUMMARY:Pre-K Crafts & Therapy Dog Visit: Paint Party (ages 3-5)
DESCRIPTION:Ages 3-5. Your child will paint a ceramic piece and explore watercolors. Dress accordingly. Plus\, enjoy a special visit from our therapy dogs! Hughes. Registration begins Mon\, Feb 23. 570-421-0800 x305.
URL:https://monroepl.org/event/pre-k-crafts-therapy-dog-visit-paint-party-ages-3-5/
LOCATION:Hughes Library\, 1002 North 9th Street\, Stroudsburg\, PA\, 18360\, United States
CATEGORIES:Children's Program
END:VEVENT
BEGIN:VEVENT
DTSTART;TZID=America/New_York:20260312T123000
DTEND;TZID=America/New_York:20260312T153000
DTSTAMP:20260423T121535
CREATED:20260219T180858Z
LAST-MODIFIED:20260219T180858Z
UID:26973-1773318600-1773329400@monroepl.org
SUMMARY:March Health Awareness Info. Booth (drop-in)
DESCRIPTION:March Health Awareness Info. Booth\nThursday\, March 12th\, 12:30-3:30pm  (drop-in) – Hughes Lobby \nMarch brings several important health observances\, and this booth invites visitors to explore how kidney health\, cancer screening awareness\, and injury prevention each contribute to overall wellbeing. A PA Department of Health representative will be available to chat about topics such as recognizing early signs\, thinking about screening timelines\, or staying safe during daily activities. Visitors are welcome to focus on any area that interests them. Drop in anytime—no appointment or registration needed.
URL:https://monroepl.org/event/march-health-awareness-info-booth-drop-in/
LOCATION:Hughes Library\, 1002 North 9th Street\, Stroudsburg\, PA\, 18360\, United States
CATEGORIES:Health Program
END:VEVENT
BEGIN:VEVENT
DTSTART;TZID=America/New_York:20260312T140000
DTEND;TZID=America/New_York:20260312T150000
DTSTAMP:20260423T121535
CREATED:20260219T182623Z
LAST-MODIFIED:20260219T182623Z
UID:26999-1773324000-1773327600@monroepl.org
SUMMARY:Computer Confidence Class: A Beginner’s Guide to Computers & the Internet
DESCRIPTION:Computer Confidence Class: A Beginner’s Guide to Computers & the Internet\nThursday\, March 12th\, 2026\, 2pm  \n  \nNew to computers—or feeling out of practice? Build confidence with the essential skills you need to navigate today’s digital world. In this hands-on class\, you’ll learn how to use a computer\, browse the internet\, and get familiar with basic computer and internet tasks. Perfect for true beginners or anyone wanting a friendly refresher. Laptops and mice are provided for practice. Registration required – space is limited. To register\, call 570-421-0800 ext. 317 or visit the Hughes Library Information Desk.
URL:https://monroepl.org/event/computer-confidence-class-a-beginners-guide-to-computers-the-internet-3/
LOCATION:Hughes Library\, 1002 North 9th Street\, Stroudsburg\, PA\, 18360\, United States
CATEGORIES:Computer Class
END:VEVENT
BEGIN:VEVENT
DTSTART;TZID=America/New_York:20260312T200000
DTEND;TZID=America/New_York:20260312T210000
DTSTAMP:20260423T121535
CREATED:20251115T145156Z
LAST-MODIFIED:20260213T162427Z
UID:25877-1773345600-1773349200@monroepl.org
SUMMARY:Smithfields Omnivorous Readers Book Club (ORB) via Zoom
DESCRIPTION:Our Smithfields Library Branch’s Omnivorous Readers Book Club (ORB) provides a unique and fun book club experience. Rather than everyone reading the same book\, each member chooses your OWN selection related to the month’s theme (which is chosen by the previous meeting’s attending members)! Sharing what we all read is an excellent way to find out about books you may be interested in reading on your own! The book theme for this month is America at 250. \nAn email invitation with the Zoom link will be sent out before the meeting. If you are not currently a member of the club but would like to join us\, call 570-223-1881 or send an email to smf@monroepl.org and you will be sent some information. New members are always warmly welcomed!
URL:https://monroepl.org/event/smithfields-omnivorous-readers-book-club-via-zoom-3/
LOCATION:Online\, United States
CATEGORIES:Book Club
END:VEVENT
END:VCALENDAR