BEGIN:VCALENDAR
VERSION:2.0
PRODID:-//Eastern Monroe Public Library - ECPv6.15.20//NONSGML v1.0//EN
CALSCALE:GREGORIAN
METHOD:PUBLISH
X-WR-CALNAME:Eastern Monroe Public Library
X-ORIGINAL-URL:https://monroepl.org
X-WR-CALDESC:Events for Eastern Monroe Public Library
REFRESH-INTERVAL;VALUE=DURATION:PT1H
X-Robots-Tag:noindex
X-PUBLISHED-TTL:PT1H
BEGIN:VTIMEZONE
TZID:America/New_York
BEGIN:DAYLIGHT
TZOFFSETFROM:-0500
TZOFFSETTO:-0400
TZNAME:EDT
DTSTART:20250309T070000
END:DAYLIGHT
BEGIN:STANDARD
TZOFFSETFROM:-0400
TZOFFSETTO:-0500
TZNAME:EST
DTSTART:20251102T060000
END:STANDARD
BEGIN:DAYLIGHT
TZOFFSETFROM:-0500
TZOFFSETTO:-0400
TZNAME:EDT
DTSTART:20260308T070000
END:DAYLIGHT
BEGIN:STANDARD
TZOFFSETFROM:-0400
TZOFFSETTO:-0500
TZNAME:EST
DTSTART:20261101T060000
END:STANDARD
BEGIN:DAYLIGHT
TZOFFSETFROM:-0500
TZOFFSETTO:-0400
TZNAME:EDT
DTSTART:20270314T070000
END:DAYLIGHT
BEGIN:STANDARD
TZOFFSETFROM:-0400
TZOFFSETTO:-0500
TZNAME:EST
DTSTART:20271107T060000
END:STANDARD
END:VTIMEZONE
BEGIN:VEVENT
DTSTART;TZID=America/New_York:20260224T133000
DTEND;TZID=America/New_York:20260224T160000
DTSTAMP:20260423T121535
CREATED:20260128T144311Z
LAST-MODIFIED:20260128T144311Z
UID:26687-1771939800-1771948800@monroepl.org
SUMMARY:Word Play Social: Scrabble\, Bananagrams\, Word Puzzles\, & More!  
DESCRIPTION:Word Play Social: Scrabble\, Bananagrams\, Word Puzzles\, & More!  \nTuesday\, February 24th\, 1:30pm- 4:00pm (drop in) — Pullen Room \nUnwind\, stretch your brain\, and enjoy a relaxed afternoon of word-friendly fun! Come solo\, invite a friend\, or meet someone new—everyone is welcome. Try our selection of Scrabble\, Bananagrams\, and other word-themed games\, or bring your own favorites. And whether you prefer a quieter puzzle moment or simply don’t want to play a board game solo\, we’ll have plenty of crosswords and word search print outs just in case. This is a self-guided\, drop-in program—stay the whole time or stop by whenever you like. No registration required.
URL:https://monroepl.org/event/word-play-social-scrabble-bananagrams-word-puzzles-more/
LOCATION:Hughes Library\, 1002 North 9th Street\, Stroudsburg\, PA\, 18360\, United States
CATEGORIES:Board Games
END:VEVENT
BEGIN:VEVENT
DTSTART;TZID=America/New_York:20260224T173000
DTEND;TZID=America/New_York:20260224T183000
DTSTAMP:20260423T121535
CREATED:20260128T144344Z
LAST-MODIFIED:20260128T144344Z
UID:26689-1771954200-1771957800@monroepl.org
SUMMARY:Evening Chair Zumba® with Danny Grae
DESCRIPTION:Evening Chair Zumba® with Danny Grae\nTuesday\, February 24th\,  5:30pm – Community Room  \nDiscover the joy of Chair Zumba®\, a seated adaptation of the popular Zumba® dance fitness program. Enjoy an upper body workout perfect for all fitness levels\, plus it’s low impact!  Don’t worry – you’ll still break a sweat! Adaptable for wheelchair users and most fitness abilities. Now happening monthly. Registration requested; walk-ins are welcome. Call 570-421-0800 ext. 317.
URL:https://monroepl.org/event/evening-chair-zumba-with-danny-grae-2/
LOCATION:Hughes Library\, 1002 North 9th Street\, Stroudsburg\, PA\, 18360\, United States
CATEGORIES:chair zumba
END:VEVENT
END:VCALENDAR