BEGIN:VCALENDAR
VERSION:2.0
PRODID:-//Eastern Monroe Public Library - ECPv6.15.20//NONSGML v1.0//EN
CALSCALE:GREGORIAN
METHOD:PUBLISH
X-WR-CALNAME:Eastern Monroe Public Library
X-ORIGINAL-URL:https://monroepl.org
X-WR-CALDESC:Events for Eastern Monroe Public Library
REFRESH-INTERVAL;VALUE=DURATION:PT1H
X-Robots-Tag:noindex
X-PUBLISHED-TTL:PT1H
BEGIN:VTIMEZONE
TZID:America/New_York
BEGIN:DAYLIGHT
TZOFFSETFROM:-0500
TZOFFSETTO:-0400
TZNAME:EDT
DTSTART:20250309T070000
END:DAYLIGHT
BEGIN:STANDARD
TZOFFSETFROM:-0400
TZOFFSETTO:-0500
TZNAME:EST
DTSTART:20251102T060000
END:STANDARD
BEGIN:DAYLIGHT
TZOFFSETFROM:-0500
TZOFFSETTO:-0400
TZNAME:EDT
DTSTART:20260308T070000
END:DAYLIGHT
BEGIN:STANDARD
TZOFFSETFROM:-0400
TZOFFSETTO:-0500
TZNAME:EST
DTSTART:20261101T060000
END:STANDARD
BEGIN:DAYLIGHT
TZOFFSETFROM:-0500
TZOFFSETTO:-0400
TZNAME:EDT
DTSTART:20270314T070000
END:DAYLIGHT
BEGIN:STANDARD
TZOFFSETFROM:-0400
TZOFFSETTO:-0500
TZNAME:EST
DTSTART:20271107T060000
END:STANDARD
END:VTIMEZONE
BEGIN:VEVENT
DTSTART;TZID=America/New_York:20260218T100000
DTEND;TZID=America/New_York:20260218T110000
DTSTAMP:20260423T135125
CREATED:20260112T185113Z
LAST-MODIFIED:20260112T192805Z
UID:26567-1771408800-1771412400@monroepl.org
SUMMARY:Tiny Explorers Open Play (Ages 1-3)
DESCRIPTION:Ages 1-3. Let your little one explore\, build\, and make noise! Blocks\, trucks\, instruments\, and other fun toys. Walk-in.
URL:https://monroepl.org/event/tiny-explorers-open-play-2/
LOCATION:Hughes Library\, 1002 North 9th Street\, Stroudsburg\, PA\, 18360\, United States
CATEGORIES:Children's Program
END:VEVENT
BEGIN:VEVENT
DTSTART;TZID=America/New_York:20260218T123000
DTEND;TZID=America/New_York:20260218T150000
DTSTAMP:20260423T135125
CREATED:20260128T145704Z
LAST-MODIFIED:20260128T145704Z
UID:26715-1771417800-1771426800@monroepl.org
SUMMARY:Color Yourself Calm: Adult Coloring
DESCRIPTION:Color Yourself Calm: Adult Coloring (Wednesdays) \nEvery Wednesday\, 12:30pm-3:00pm (drop-in) — Pullen Room \nJoin us for Color Yourself Calm\, a relaxing\, self-guided coloring session for adults of all abilities. All materials are provided—including colored pencils\, crayons\, markers\, and a variety of coloring sheets—though you’re welcome to bring your own if you prefer. Drop in anytime during the session and stay for as long as you like. Settle in for peaceful solitude or connect with others in a calm\, creative atmosphere. Unwind\, recharge\, and enjoy a soothing break in your day!
URL:https://monroepl.org/event/color-yourself-calm-adult-coloring-13/
LOCATION:Hughes Library\, 1002 North 9th Street\, Stroudsburg\, PA\, 18360\, United States
CATEGORIES:Adult Coloring
END:VEVENT
BEGIN:VEVENT
DTSTART;TZID=America/New_York:20260218T140000
DTEND;TZID=America/New_York:20260218T160000
DTSTAMP:20260423T135125
CREATED:20260128T144139Z
LAST-MODIFIED:20260128T144139Z
UID:26683-1771423200-1771430400@monroepl.org
SUMMARY:Free Weekday Matinee Film: On Golden Pond
DESCRIPTION:Free Weekday Matinee Film: On Golden Pond (1981)\nWednesday\, February 18th\, 2pm-4pm — Community Room \nWarm up this February with On Golden Pond (1981)\, a tender\, award-nominated drama directed by Mark Rydell and adapted from Ernest Thompson’s stage play. Henry Fonda and Katharine Hepburn star as a longtime married couple whose quiet summer at their lakeside home leads to reflection\, reconciliation\, and an unexpected bond across generations. Feel free to bring a chair cushion or pillow for extra comfort! Rated PG (parental guidance suggested). Shown with closed captions/English subtitles.
URL:https://monroepl.org/event/free-weekday-matinee-film-on-golden-pond/
LOCATION:Hughes Library\, 1002 North 9th Street\, Stroudsburg\, PA\, 18360\, United States
CATEGORIES:Free Film
END:VEVENT
END:VCALENDAR