BEGIN:VCALENDAR
VERSION:2.0
PRODID:-//Eastern Monroe Public Library - ECPv6.15.20//NONSGML v1.0//EN
CALSCALE:GREGORIAN
METHOD:PUBLISH
X-ORIGINAL-URL:https://monroepl.org
X-WR-CALDESC:Events for Eastern Monroe Public Library
REFRESH-INTERVAL;VALUE=DURATION:PT1H
X-Robots-Tag:noindex
X-PUBLISHED-TTL:PT1H
BEGIN:VTIMEZONE
TZID:America/New_York
BEGIN:DAYLIGHT
TZOFFSETFROM:-0500
TZOFFSETTO:-0400
TZNAME:EDT
DTSTART:20250309T070000
END:DAYLIGHT
BEGIN:STANDARD
TZOFFSETFROM:-0400
TZOFFSETTO:-0500
TZNAME:EST
DTSTART:20251102T060000
END:STANDARD
BEGIN:DAYLIGHT
TZOFFSETFROM:-0500
TZOFFSETTO:-0400
TZNAME:EDT
DTSTART:20260308T070000
END:DAYLIGHT
BEGIN:STANDARD
TZOFFSETFROM:-0400
TZOFFSETTO:-0500
TZNAME:EST
DTSTART:20261101T060000
END:STANDARD
BEGIN:DAYLIGHT
TZOFFSETFROM:-0500
TZOFFSETTO:-0400
TZNAME:EDT
DTSTART:20270314T070000
END:DAYLIGHT
BEGIN:STANDARD
TZOFFSETFROM:-0400
TZOFFSETTO:-0500
TZNAME:EST
DTSTART:20271107T060000
END:STANDARD
END:VTIMEZONE
BEGIN:VEVENT
DTSTART;TZID=America/New_York:20260216T130000
DTEND;TZID=America/New_York:20260216T160000
DTSTAMP:20260423T135420
CREATED:20260128T145330Z
LAST-MODIFIED:20260128T145330Z
UID:26707-1771246800-1771257600@monroepl.org
SUMMARY:Drop-In Fly-Tying Demo & Practice with Trout Unlimited
DESCRIPTION:Drop-In Fly-Tying Demo & Practice with Trout Unlimited (Mondays) \nWatch fly-tying demonstrations and try your hand at this traditional craft with John from Brodhead Chapter of Trout Unlimited! Drop by the Hughes Library lobby most Mondays\, 1-4pm (see calendar for dates) to admire both classic and unique examples of fly tying patterns\, learn techniques\, and practice tying. All flies created will be donated to VALOR to support veterans with fly fishing. No experience or registration required.
URL:https://monroepl.org/event/drop-in-fly-tying-demo-practice-with-trout-unlimited-9/
LOCATION:Hughes Library\, 1002 North 9th Street\, Stroudsburg\, PA\, 18360\, United States
END:VEVENT
BEGIN:VEVENT
DTSTART;TZID=America/New_York:20260216T150000
DTEND;TZID=America/New_York:20260216T163000
DTSTAMP:20260423T135420
CREATED:20260128T141822Z
LAST-MODIFIED:20260128T141822Z
UID:26669-1771254000-1771259400@monroepl.org
SUMMARY:Monday Sit & Stitch
DESCRIPTION:Monday Sit & Stitch Sessions\nMonday\, February 2nd\, 3pm-4:30pm – Eisemann Room \nMonday\, February 16th\, 3pm-4:30pm – Eisemann Room \nNOTE! New times for 2026: Mondays (1st and 3rd)\, 3:00–4:30 p.m.\, and Sundays (2nd Sundays)\, 1:00–3:00 p.m.\, all in the Eisemann Room. Join a friendly\, come-as-you-are gathering of fellow makers where you can bring your current project\, chat\, share ideas\, and enjoy a relaxed creative atmosphere. This is a social meet-up\, not a class\, but you may find others who practice the same craft and are happy to lend an ear\, offer a hand\, or swap tips. All crafts are welcome—just bring your own supplies. No registration needed; drop in anytime.
URL:https://monroepl.org/event/monday-sit-stitch-5/
LOCATION:Hughes Library\, 1002 North 9th Street\, Stroudsburg\, PA\, 18360\, United States
CATEGORIES:Craft
END:VEVENT
END:VCALENDAR